BEGIN:VCALENDAR
VERSION:2.0
PRODID:-//Georgia Asian Times - ECPv6.15.20//NONSGML v1.0//EN
CALSCALE:GREGORIAN
METHOD:PUBLISH
X-WR-CALNAME:Georgia Asian Times
X-ORIGINAL-URL:https://gasiantimes.com
X-WR-CALDESC:Events for Georgia Asian Times
REFRESH-INTERVAL;VALUE=DURATION:PT1H
X-Robots-Tag:noindex
X-PUBLISHED-TTL:PT1H
BEGIN:VTIMEZONE
TZID:America/New_York
BEGIN:DAYLIGHT
TZOFFSETFROM:-0500
TZOFFSETTO:-0400
TZNAME:EDT
DTSTART:20220313T070000
END:DAYLIGHT
BEGIN:STANDARD
TZOFFSETFROM:-0400
TZOFFSETTO:-0500
TZNAME:EST
DTSTART:20221106T060000
END:STANDARD
BEGIN:DAYLIGHT
TZOFFSETFROM:-0500
TZOFFSETTO:-0400
TZNAME:EDT
DTSTART:20230312T070000
END:DAYLIGHT
BEGIN:STANDARD
TZOFFSETFROM:-0400
TZOFFSETTO:-0500
TZNAME:EST
DTSTART:20231105T060000
END:STANDARD
BEGIN:DAYLIGHT
TZOFFSETFROM:-0500
TZOFFSETTO:-0400
TZNAME:EDT
DTSTART:20240310T070000
END:DAYLIGHT
BEGIN:STANDARD
TZOFFSETFROM:-0400
TZOFFSETTO:-0500
TZNAME:EST
DTSTART:20241103T060000
END:STANDARD
END:VTIMEZONE
BEGIN:VEVENT
DTSTART;TZID=America/New_York:20231018T183000
DTEND;TZID=America/New_York:20231018T213000
DTSTAMP:20260421T085443
CREATED:20231005T122749Z
LAST-MODIFIED:20231005T122749Z
UID:55824-1697653800-1697664600@gasiantimes.com
SUMMARY:High Museum of Art | 2023 Collectors Evening
DESCRIPTION:By purchasing a ticket to this event\, you will have the opportunity to vote for a work of art\, put forth by each curator\, to add to the High Museum of Art’s collection.\nDate: Wednesday Oct 18\, 2023\nTime: 6:30pm\nVenue: High Museum of Art Atlanta
URL:https://gasiantimes.com/event/high-museum-of-art-2023-collectors-evening-2/
LOCATION:High Museum\, 1280 Peachtree St NE\,\, Atlanta\, GA\, 30309-3549
END:VEVENT
BEGIN:VEVENT
DTSTART;TZID=America/New_York:20231014T180000
DTEND;TZID=America/New_York:20231014T220000
DTSTAMP:20260421T085443
CREATED:20231005T122542Z
LAST-MODIFIED:20231005T122542Z
UID:52010-1697306400-1697320800@gasiantimes.com
SUMMARY:Piyeste - Celebrating Filipino Creatives
DESCRIPTION:Date: Saturday\, Oct 14\, 2023\nTime: 6:00pm\nVenue: Pullman Yards\, AlcoHall\n225 Rogers St. NE Atlanta GA 30317
URL:https://gasiantimes.com/event/piyeste-celebrating-filipino-creatives/
LOCATION:GA
END:VEVENT
BEGIN:VEVENT
DTSTART;TZID=America/New_York:20231014T180000
DTEND;TZID=America/New_York:20231014T220000
DTSTAMP:20260421T085443
CREATED:20231005T122542Z
LAST-MODIFIED:20231005T122542Z
UID:55823-1697306400-1697320800@gasiantimes.com
SUMMARY:Piyeste - Celebrating Filipino Creatives
DESCRIPTION:Date: Saturday\, Oct 14\, 2023\nTime: 6:00pm\nVenue: Pullman Yards\, AlcoHall\n225 Rogers St. NE Atlanta GA 30317
URL:https://gasiantimes.com/event/piyeste-celebrating-filipino-creatives-2/
LOCATION:GA
END:VEVENT
BEGIN:VEVENT
DTSTART;TZID=America/New_York:20230916T110000
DTEND;TZID=America/New_York:20230916T180000
DTSTAMP:20260421T085443
CREATED:20230821T132718Z
LAST-MODIFIED:20230821T132718Z
UID:51792-1694862000-1694887200@gasiantimes.com
SUMMARY:FAA Columbus 34th Anniversary & Induction Celebration
DESCRIPTION:Date: Saturday\, September 16\, 2023\nTime: 11:00 am – 6:00 pm\n5:30 pm cocktails and dinner at 6:30pm dinner\nVenue: Columbus Convention & Trade Center\, 801 Front Street\, Columbus\, GA.
URL:https://gasiantimes.com/event/faa-columbus-34th-anniversary-induction-celebration/
LOCATION:GA
END:VEVENT
BEGIN:VEVENT
DTSTART;TZID=America/New_York:20230916T110000
DTEND;TZID=America/New_York:20230916T180000
DTSTAMP:20260421T085443
CREATED:20230821T132718Z
LAST-MODIFIED:20230821T132718Z
UID:55822-1694862000-1694887200@gasiantimes.com
SUMMARY:FAA Columbus 34th Anniversary & Induction Celebration
DESCRIPTION:Date: Saturday\, September 16\, 2023\nTime: 11:00 am – 6:00 pm\n5:30 pm cocktails and dinner at 6:30pm dinner\nVenue: Columbus Convention & Trade Center\, 801 Front Street\, Columbus\, GA.
URL:https://gasiantimes.com/event/faa-columbus-34th-anniversary-induction-celebration-2/
LOCATION:GA
END:VEVENT
BEGIN:VEVENT
DTSTART;TZID=America/New_York:20230916T100000
DTEND;TZID=America/New_York:20230917T180000
DTSTAMP:20260421T085443
CREATED:20230802T012751Z
LAST-MODIFIED:20230802T012751Z
UID:51616-1694858400-1694973600@gasiantimes.com
SUMMARY:JapanFest 2023
DESCRIPTION:Date: Sat-Sun/Sept 16-17\, 2023\nTime: 10:00am-6:00pm\nVenue: Gas South Convention Center\nFor more info: www.japanfest.org
URL:https://gasiantimes.com/event/japanfest-2023/
LOCATION:Gas South Convention Center\, 6400 Sugarloaf Pkwy\, Duluth\, GA\, 30097\, United States
END:VEVENT
BEGIN:VEVENT
DTSTART;TZID=America/New_York:20230916T100000
DTEND;TZID=America/New_York:20230917T180000
DTSTAMP:20260421T085443
CREATED:20230802T012751Z
LAST-MODIFIED:20230802T012751Z
UID:55821-1694858400-1694973600@gasiantimes.com
SUMMARY:JapanFest 2023
DESCRIPTION:Date: Sat-Sun/Sept 16-17\, 2023\nTime: 10:00am-6:00pm\nVenue: Gas South Convention Center\nFor more info: www.japanfest.org
URL:https://gasiantimes.com/event/japanfest-2023-2/
LOCATION:Gas South Convention Center\, 6400 Sugarloaf Pkwy\, Duluth\, GA\, 30097\, United States
END:VEVENT
BEGIN:VEVENT
DTSTART;TZID=America/New_York:20230812T170000
DTEND;TZID=America/New_York:20230812T230000
DTSTAMP:20260421T085443
CREATED:20230802T012318Z
LAST-MODIFIED:20230802T012318Z
UID:55820-1691859600-1691881200@gasiantimes.com
SUMMARY:Annual Damayan Fiesta
DESCRIPTION:Organized by Damayan Fil-Am of Middle GA\nDate: Saturday\, August 12\, 2023\nTime: 5:00pm – 11:00pm\nVenue: The Veterans of Foreign Wars\,1011 Corner Rd\, Warner Robbins\, GA 31088
URL:https://gasiantimes.com/event/annual-damayan-fiesta-2/
LOCATION:1011 Corner Rd\, Warner Robbins\, GA 31088\, 1011 Corner Rd\,\, Warner Robbins\, GA\, 31088
END:VEVENT
BEGIN:VEVENT
DTSTART;TZID=America/New_York:20230812T170000
DTEND;TZID=America/New_York:20230812T230000
DTSTAMP:20260421T085443
CREATED:20230802T012318Z
LAST-MODIFIED:20230802T012318Z
UID:51613-1691859600-1691881200@gasiantimes.com
SUMMARY:Annual Damayan Fiesta
DESCRIPTION:Organized by Damayan Fil-Am of Middle GA\nDate: Saturday\, August 12\, 2023\nTime: 5:00pm – 11:00pm\nVenue: The Veterans of Foreign Wars\,1011 Corner Rd\, Warner Robbins\, GA 31088
URL:https://gasiantimes.com/event/annual-damayan-fiesta/
LOCATION:1011 Corner Rd\, Warner Robbins\, GA 31088\, 1011 Corner Rd\,\, Warner Robbins\, GA\, 31088
END:VEVENT
BEGIN:VEVENT
DTSTART;TZID=America/New_York:20230714T180000
DTEND;TZID=America/New_York:20230714T223000
DTSTAMP:20260421T085443
CREATED:20230322T132454Z
LAST-MODIFIED:20230707T144331Z
UID:49651-1689357600-1689373800@gasiantimes.com
SUMMARY:GAT 25 Most Influential Asian Americans in Georgia 2023
DESCRIPTION:Date: Friday\, July 14\, 2023\nTime: 6:00pm\nVenue: Sonesta Gwinnett Place\, Duluth \nBuy Seats/Tables by July 10\, 2023: https://gasiantimes.com/staging/gat25
URL:https://gasiantimes.com/event/gat-25-most-influential-asian-americans-in-georgia-2023/
LOCATION:sonesta\, 1775 Pleasant Hill Rd\, Duluth\, GA\, 30096\, United States
END:VEVENT
BEGIN:VEVENT
DTSTART;TZID=America/New_York:20230714T180000
DTEND;TZID=America/New_York:20230714T223000
DTSTAMP:20260421T085443
CREATED:20230322T132454Z
LAST-MODIFIED:20230322T132454Z
UID:55817-1689357600-1689373800@gasiantimes.com
SUMMARY:GAT 25 Most Influential Asian Americans in Georgia 2023
DESCRIPTION:Date: Friday\, July 14\, 2023\nTime: 6:00pm\nVenue: Sonesta Gwinnett Place\, Duluth \nBuy Seats/Tables by July 10\, 2023: https://gasiantimes.com/gat25
URL:https://gasiantimes.com/event/gat-25-most-influential-asian-americans-in-georgia-2023-2/
LOCATION:sonesta\, 1775 Pleasant Hill Rd\, Duluth\, GA\, 30096\, United States
END:VEVENT
BEGIN:VEVENT
DTSTART;TZID=America/New_York:20230612T180000
DTEND;TZID=America/New_York:20230612T220000
DTSTAMP:20260421T085443
CREATED:20230602T131047Z
LAST-MODIFIED:20230605T121518Z
UID:51252-1686592800-1686607200@gasiantimes.com
SUMMARY:Kalayaan Atlanta 2023
DESCRIPTION:Commemoration of 125th anniversary of Philippine Independence from Spanish rule\nDate: June 12\, 2023\nTime: 6:00pm-10:00pm\nVenue: Georgia Aquarium
URL:https://gasiantimes.com/event/kalayaan-atlanta-20023/
LOCATION:Georgia Aquarium\, 225 Baker St\,\, Atlanta\, GA\, 30313\, United States
END:VEVENT
BEGIN:VEVENT
DTSTART;TZID=America/New_York:20230612T180000
DTEND;TZID=America/New_York:20230612T220000
DTSTAMP:20260421T085443
CREATED:20230602T131047Z
LAST-MODIFIED:20230602T131047Z
UID:55819-1686592800-1686607200@gasiantimes.com
SUMMARY:Kalayaan Atlanta 2023
DESCRIPTION:Commemoration of 125th anniversary of Philippine Independence from Spanish rule\nDate: June 12\, 2023\nTime: 6:00pm-10:00pm\nVenue: Georgia Aquarium
URL:https://gasiantimes.com/event/kalayaan-atlanta-20023-2/
LOCATION:Georgia Aquarium\, 225 Baker St\,\, Atlanta\, GA\, 30313\, United States
END:VEVENT
BEGIN:VEVENT
DTSTART;TZID=America/New_York:20230603T160000
DTEND;TZID=America/New_York:20230603T160000
DTSTAMP:20260421T085443
CREATED:20230602T130709Z
LAST-MODIFIED:20230602T130709Z
UID:51249-1685808000-1685808000@gasiantimes.com
SUMMARY:Philippine Festival-A Family Fun Day
DESCRIPTION:Date: Saturday\, June 3\, 2023\nTime: 9:00am-4:00pm\nVenue: Pinckneyville Park\, Norcross
URL:https://gasiantimes.com/event/philippine-festival-a-family-fun-day/
LOCATION:Pinckneyville Park\, 4758 S. Old Peachtree Rd. Norcross GA 30071\, Norcross\, GA\, 30071\, United States
END:VEVENT
BEGIN:VEVENT
DTSTART;TZID=America/New_York:20230603T160000
DTEND;TZID=America/New_York:20230603T160000
DTSTAMP:20260421T085443
CREATED:20230602T130709Z
LAST-MODIFIED:20230602T130709Z
UID:55818-1685808000-1685808000@gasiantimes.com
SUMMARY:Philippine Festival-A Family Fun Day
DESCRIPTION:Date: Saturday\, June 3\, 2023\nTime: 9:00am-4:00pm\nVenue: Pinckneyville Park\, Norcross
URL:https://gasiantimes.com/event/philippine-festival-a-family-fun-day-2/
LOCATION:Pinckneyville Park\, 4758 S. Old Peachtree Rd. Norcross GA 30071\, Norcross\, GA\, 30071\, United States
END:VEVENT
BEGIN:VEVENT
DTSTART;TZID=America/New_York:20230506T090000
DTEND;TZID=America/New_York:20230506T160000
DTSTAMP:20260421T085443
CREATED:20230315T140319Z
LAST-MODIFIED:20230416T132838Z
UID:49384-1683363600-1683388800@gasiantimes.com
SUMMARY:GAT AAPI Summit 2023
DESCRIPTION:Date: Saturday\, May 6\, 2023\nTime: 9:00am-4:00pm\nVenue: UGA Gwinnett Campus\n2530 Sever Road\, Lawrenceville GA 30043 \nRegistration & Tickets>>
URL:https://gasiantimes.com/event/gat-aapi-summit-2023/
LOCATION:UGA Gwinnett Campus\, 2530 Sever Road\, Lawrenceville\, GA\, 30043
END:VEVENT
BEGIN:VEVENT
DTSTART;TZID=America/New_York:20230506T090000
DTEND;TZID=America/New_York:20230506T160000
DTSTAMP:20260421T085443
CREATED:20230315T140319Z
LAST-MODIFIED:20230315T140319Z
UID:55816-1683363600-1683388800@gasiantimes.com
SUMMARY:GAT AAPI Summit 2023
DESCRIPTION:Date: Saturday\, May 6\, 2023\nTime: 9:00am-4:00pm\nVenue: UGA Gwinnett Campus\n2530 Sever Road\, Lawrenceville GA 30043 \nRegistration & Tickets>>
URL:https://gasiantimes.com/event/gat-aapi-summit-2023-2/
LOCATION:UGA Gwinnett Campus\, 2530 Sever Road\, Lawrenceville\, GA\, 30043
END:VEVENT
BEGIN:VEVENT
DTSTART;TZID=America/New_York:20230407T080000
DTEND;TZID=America/New_York:20230407T153000
DTSTAMP:20260421T085443
CREATED:20230222T191551Z
LAST-MODIFIED:20230222T191651Z
UID:49015-1680854400-1680881400@gasiantimes.com
SUMMARY:Symposium on Asia-USA Partnership Opportunities (SAUPO) 2023
DESCRIPTION:Date: Friday\, April 7\, 2023\nTime: 8:00am-3:30pm\nVenue: KSU Center\, 3333 Busbee Drive\, Kennesaw GA 30144\nRegistration link: https://conference.kennesaw.edu/saupo/registration.php
URL:https://gasiantimes.com/event/symposium-on-asia-usa-partnership-opportunities-saupo-2023/
LOCATION:GA
END:VEVENT
BEGIN:VEVENT
DTSTART;TZID=America/New_York:20230407T080000
DTEND;TZID=America/New_York:20230407T153000
DTSTAMP:20260421T085443
CREATED:20230222T191551Z
LAST-MODIFIED:20230222T191551Z
UID:55811-1680854400-1680881400@gasiantimes.com
SUMMARY:Symposium on Asia-USA Partnership Opportunities (SAUPO) 2023
DESCRIPTION:Date: Friday\, April 7\, 2023\nTime: 8:00am-3:30pm\nVenue: KSU Center\, 3333 Busbee Drive\, Kennesaw GA 30144\nRegistration link: https://conference.kennesaw.edu/saupo/registration.php
URL:https://gasiantimes.com/event/symposium-on-asia-usa-partnership-opportunities-saupo-2023-2/
LOCATION:GA
END:VEVENT
BEGIN:VEVENT
DTSTART;TZID=America/New_York:20230317T183000
DTEND;TZID=America/New_York:20230317T213000
DTSTAMP:20260421T085443
CREATED:20230307T150145Z
LAST-MODIFIED:20230308T135830Z
UID:49292-1679077800-1679088600@gasiantimes.com
SUMMARY:Red Carpet Screening Film Screening
DESCRIPTION:Asian American Against Hate\nDate: Friday\, March 17\, 2023\nTime: 6:30-9:30pm\nVenue: Regal Cinema Wedlock Bridge\n9700 Wedlock Bridge Rd\, Johns Creek GA 30097\nFree & RSVP
URL:https://gasiantimes.com/event/red-carpet-screening-film-screening/
LOCATION:GA
END:VEVENT
BEGIN:VEVENT
DTSTART;TZID=America/New_York:20230317T183000
DTEND;TZID=America/New_York:20230317T213000
DTSTAMP:20260421T085443
CREATED:20230307T150145Z
LAST-MODIFIED:20230307T150145Z
UID:55815-1679077800-1679088600@gasiantimes.com
SUMMARY:Red Carpet Screening Film Screening
DESCRIPTION:Asian American Against Hate\nDate: Friday\, March 17\, 2023\nTime: 6:30-9:30pm\nVenue: Regal Cinema Wedlock Bridge\n9700 Wedlock Bridge Rd\, Johns Creek GA 30097\nFree & RSVP
URL:https://gasiantimes.com/event/red-carpet-screening-film-screening-2/
LOCATION:GA
END:VEVENT
BEGIN:VEVENT
DTSTART;TZID=America/New_York:20230316T180000
DTEND;TZID=America/New_York:20230316T220000
DTSTAMP:20260421T085443
CREATED:20230307T150010Z
LAST-MODIFIED:20230307T150010Z
UID:49288-1678989600-1679004000@gasiantimes.com
SUMMARY:Community Concert: Healing\, Unifying & Moving Forward Against Hate
DESCRIPTION:Date: Thursday\, March 16\, 2023\nTime: 6:00pm\nVenue: Korean Community Center\n5900 Brook Hollow Parkway\, Norcross GA 30071\nFor more info: 678.951.3167
URL:https://gasiantimes.com/event/community-concert-healing-unifying-moving-forward-against-hate/
LOCATION:Korean Community Center KAAGA\, 5900 Brook Hollow Parkway\, Norcross\, GA\, 30071
END:VEVENT
BEGIN:VEVENT
DTSTART;TZID=America/New_York:20230316T180000
DTEND;TZID=America/New_York:20230316T220000
DTSTAMP:20260421T085443
CREATED:20230307T150010Z
LAST-MODIFIED:20230307T150010Z
UID:55814-1678989600-1679004000@gasiantimes.com
SUMMARY:Community Concert: Healing\, Unifying & Moving Forward Against Hate
DESCRIPTION:Date: Thursday\, March 16\, 2023\nTime: 6:00pm\nVenue: Korean Community Center\n5900 Brook Hollow Parkway\, Norcross GA 30071\nFor more info: 678.951.3167
URL:https://gasiantimes.com/event/community-concert-healing-unifying-moving-forward-against-hate-2/
LOCATION:Korean Community Center KAAGA\, 5900 Brook Hollow Parkway\, Norcross\, GA\, 30071
END:VEVENT
BEGIN:VEVENT
DTSTART;TZID=America/New_York:20230316T100000
DTEND;TZID=America/New_York:20230316T130000
DTSTAMP:20260421T085443
CREATED:20230307T145721Z
LAST-MODIFIED:20230307T145721Z
UID:49285-1678960800-1678971600@gasiantimes.com
SUMMARY:Atlanta Justice Rally
DESCRIPTION:Asian American Against Hate\nDate: Thursday\, March 16\, 2023\nTime: 10:00am-1:00pm\nVenue: Georgia Freight Depot/The Blue Room\n65 Martin Luther King Jr. Drive\, Atlanta GA 30303\nFor more info: alwayswithus.org
URL:https://gasiantimes.com/event/atlanta-justice-rally/
LOCATION:Georgia Freight Depot\, 65 Martin Luther King Jr. Drive\, Atlanta\, GA\, 30303
END:VEVENT
BEGIN:VEVENT
DTSTART;TZID=America/New_York:20230316T100000
DTEND;TZID=America/New_York:20230316T130000
DTSTAMP:20260421T085443
CREATED:20230307T145721Z
LAST-MODIFIED:20230307T145721Z
UID:55813-1678960800-1678971600@gasiantimes.com
SUMMARY:Atlanta Justice Rally
DESCRIPTION:Asian American Against Hate\nDate: Thursday\, March 16\, 2023\nTime: 10:00am-1:00pm\nVenue: Georgia Freight Depot/The Blue Room\n65 Martin Luther King Jr. Drive\, Atlanta GA 30303\nFor more info: alwayswithus.org
URL:https://gasiantimes.com/event/atlanta-justice-rally-2/
LOCATION:Georgia Freight Depot\, 65 Martin Luther King Jr. Drive\, Atlanta\, GA\, 30303
END:VEVENT
BEGIN:VEVENT
DTSTART;TZID=America/New_York:20230313T110000
DTEND;TZID=America/New_York:20230313T130000
DTSTAMP:20260421T085443
CREATED:20230301T213649Z
LAST-MODIFIED:20230301T213649Z
UID:49245-1678705200-1678712400@gasiantimes.com
SUMMARY:GAT AAPI Legislature Luncheon 2023
DESCRIPTION:Date: Monday\, March 13\, 2023\nTime: 11:00am-1:00pm\nVenue: State Capitol\, Room#502 CLOB\nRSVP required
URL:https://gasiantimes.com/event/gat-aapi-legislature-luncheon-2023/
LOCATION:GA
END:VEVENT
BEGIN:VEVENT
DTSTART;TZID=America/New_York:20230313T110000
DTEND;TZID=America/New_York:20230313T130000
DTSTAMP:20260421T085443
CREATED:20230301T213649Z
LAST-MODIFIED:20230301T213649Z
UID:55812-1678705200-1678712400@gasiantimes.com
SUMMARY:GAT AAPI Legislature Luncheon 2023
DESCRIPTION:Date: Monday\, March 13\, 2023\nTime: 11:00am-1:00pm\nVenue: State Capitol\, Room#502 CLOB\nRSVP required
URL:https://gasiantimes.com/event/gat-aapi-legislature-luncheon-2023-2/
LOCATION:GA
END:VEVENT
BEGIN:VEVENT
DTSTART;TZID=America/New_York:20230303T180000
DTEND;TZID=America/New_York:20230303T213000
DTSTAMP:20260421T085443
CREATED:20230215T180026Z
LAST-MODIFIED:20230215T180054Z
UID:48740-1677866400-1677879000@gasiantimes.com
SUMMARY:2023 New American Hero Award
DESCRIPTION:Sunny Park delivers his welcome remarks at the 2022 New American Hero Award Gala.\nPresented by American Korean Friendship Society (AKFS)\nDate: Friday\, March 3\, 2023\nTime: 6:00pm-9:30pm\nVenue: Cherokee Town Club\, 155 West Paces Ferry Road\, Atlanta\nBy Invitation only
URL:https://gasiantimes.com/event/2023-new-american-hero-award/
LOCATION:Cherokke Town Club\, 155 West Paces Ferry Road\, Atlanta\, GA\, United States
END:VEVENT
BEGIN:VEVENT
DTSTART;TZID=America/New_York:20230303T180000
DTEND;TZID=America/New_York:20230303T213000
DTSTAMP:20260421T085443
CREATED:20230215T180026Z
LAST-MODIFIED:20230215T180026Z
UID:55810-1677866400-1677879000@gasiantimes.com
SUMMARY:2023 New American Hero Award
DESCRIPTION:Sunny Park delivers his welcome remarks at the 2022 New American Hero Award Gala.\nPresented by American Korean Friendship Society (AKFS)\nDate: Friday\, March 3\, 2023\nTime: 6:00pm-9:30pm\nVenue: Cherokee Town Club\, 155 West Paces Ferry Road\, Atlanta\nBy Invitation only
URL:https://gasiantimes.com/event/2023-new-american-hero-award-2/
LOCATION:Cherokke Town Club\, 155 West Paces Ferry Road\, Atlanta\, GA\, United States
END:VEVENT
BEGIN:VEVENT
DTSTART;TZID=America/New_York:20230218T180000
DTEND;TZID=America/New_York:20230218T230000
DTSTAMP:20260421T085443
CREATED:20230109T152108Z
LAST-MODIFIED:20230109T152108Z
UID:47720-1676743200-1676761200@gasiantimes.com
SUMMARY:Spring Festival 2023
DESCRIPTION:Organized by National Association of Chinese Americans\nDate: Saturday\, Feb 18\, 2023\nTime: 6:00pm\nVenue: Canton House\nFor more info: https://naca-atlanta.org/rabbit
URL:https://gasiantimes.com/event/spring-festival-2023/
LOCATION:GA
END:VEVENT
END:VCALENDAR