BEGIN:VCALENDAR
VERSION:2.0
PRODID:-//Georgia Asian Times - ECPv6.15.20//NONSGML v1.0//EN
CALSCALE:GREGORIAN
METHOD:PUBLISH
X-ORIGINAL-URL:https://gasiantimes.com
X-WR-CALDESC:Events for Georgia Asian Times
REFRESH-INTERVAL;VALUE=DURATION:PT1H
X-Robots-Tag:noindex
X-PUBLISHED-TTL:PT1H
BEGIN:VTIMEZONE
TZID:America/New_York
BEGIN:DAYLIGHT
TZOFFSETFROM:-0500
TZOFFSETTO:-0400
TZNAME:EDT
DTSTART:20220313T070000
END:DAYLIGHT
BEGIN:STANDARD
TZOFFSETFROM:-0400
TZOFFSETTO:-0500
TZNAME:EST
DTSTART:20221106T060000
END:STANDARD
BEGIN:DAYLIGHT
TZOFFSETFROM:-0500
TZOFFSETTO:-0400
TZNAME:EDT
DTSTART:20230312T070000
END:DAYLIGHT
BEGIN:STANDARD
TZOFFSETFROM:-0400
TZOFFSETTO:-0500
TZNAME:EST
DTSTART:20231105T060000
END:STANDARD
BEGIN:DAYLIGHT
TZOFFSETFROM:-0500
TZOFFSETTO:-0400
TZNAME:EDT
DTSTART:20240310T070000
END:DAYLIGHT
BEGIN:STANDARD
TZOFFSETFROM:-0400
TZOFFSETTO:-0500
TZNAME:EST
DTSTART:20241103T060000
END:STANDARD
BEGIN:DAYLIGHT
TZOFFSETFROM:-0500
TZOFFSETTO:-0400
TZNAME:EDT
DTSTART:20250309T070000
END:DAYLIGHT
BEGIN:STANDARD
TZOFFSETFROM:-0400
TZOFFSETTO:-0500
TZNAME:EST
DTSTART:20251102T060000
END:STANDARD
END:VTIMEZONE
BEGIN:VEVENT
DTSTART;TZID=America/New_York:20240314T130000
DTEND;TZID=America/New_York:20240314T150000
DTSTAMP:20260421T054037
CREATED:20240226T185942Z
LAST-MODIFIED:20240226T185942Z
UID:53079-1710421200-1710428400@gasiantimes.com
SUMMARY:3rd Anniversary of 3/16 : Press Conference with Georgia AAPI Legislative Caucus
DESCRIPTION:Date: Thursday\, March 14\, 2024\nTime: 1:00pm\nVenue: Georgia State Capitol-South Steps\n206 Washington Street\, NW\, Atlanta GA 30303
URL:https://gasiantimes.com/event/3rd-anniversary-of-3-16-press-conference-with-georgia-aapi-legislative-caucus/
LOCATION:Georgia State Capitol
END:VEVENT
BEGIN:VEVENT
DTSTART;TZID=America/New_York:20240217T180000
DTEND;TZID=America/New_York:20240217T213000
DTSTAMP:20260421T054037
CREATED:20240109T161044Z
LAST-MODIFIED:20240109T161044Z
UID:55834-1708192800-1708205400@gasiantimes.com
SUMMARY:NACA Spring Festival 2024
DESCRIPTION:Lunar New Year Banquet\nDate: Saturday\, February 17\, 2024\nVenue: Canton House\, Buford Highway\nFor more info: www.naca-atlanta.org
URL:https://gasiantimes.com/event/naca-spring-festival-2024-2/
LOCATION:Canton House\, 2255 Pleasant Hill Road\, Duluth\, GA\, 30096
END:VEVENT
BEGIN:VEVENT
DTSTART;TZID=America/New_York:20240217T180000
DTEND;TZID=America/New_York:20240217T213000
DTSTAMP:20260421T054037
CREATED:20240109T161044Z
LAST-MODIFIED:20240109T161044Z
UID:52627-1708192800-1708205400@gasiantimes.com
SUMMARY:NACA Spring Festival 2024
DESCRIPTION:Lunar New Year Banquet\nDate: Saturday\, February 17\, 2024\nVenue: Canton House\, Buford Highway\nFor more info: www.naca-atlanta.org
URL:https://gasiantimes.com/event/naca-spring-festival-2024/
LOCATION:Canton House\, 2255 Pleasant Hill Road\, Duluth\, GA\, 30096
END:VEVENT
BEGIN:VEVENT
DTSTART;TZID=America/New_York:20240215T120000
DTEND;TZID=America/New_York:20240215T170000
DTSTAMP:20260421T054037
CREATED:20240209T140806Z
LAST-MODIFIED:20240209T140806Z
UID:55836-1707998400-1708016400@gasiantimes.com
SUMMARY:Lunar New Year at the Capitol
DESCRIPTION:Organized By: Georgia’s Legislative AAPI Caucus\nDate: February 15\, 2024\nTime: All Day\, 12:00PM-1:00PM Press Conference\, 3:00PM-4:00PM Lion Dance\nVenue: South Steps at the Capitol\, 206 Washington St SW\, Atlanta\, GA 30334\nFor more info: hoichotetatl@gmail.com
URL:https://gasiantimes.com/event/lunar-new-year-at-the-capitol-2/
LOCATION:Georgia State Capitol
END:VEVENT
BEGIN:VEVENT
DTSTART;TZID=America/New_York:20240215T120000
DTEND;TZID=America/New_York:20240215T170000
DTSTAMP:20260421T054037
CREATED:20240209T140806Z
LAST-MODIFIED:20240209T140806Z
UID:52932-1707998400-1708016400@gasiantimes.com
SUMMARY:Lunar New Year at the Capitol
DESCRIPTION:Organized By: Georgia’s Legislative AAPI Caucus\nDate: February 15\, 2024\nTime: All Day\, 12:00PM-1:00PM Press Conference\, 3:00PM-4:00PM Lion Dance\nVenue: South Steps at the Capitol\, 206 Washington St SW\, Atlanta\, GA 30334\nFor more info: hoichotetatl@gmail.com
URL:https://gasiantimes.com/event/lunar-new-year-at-the-capitol/
LOCATION:Georgia State Capitol
END:VEVENT
BEGIN:VEVENT
DTSTART;TZID=America/New_York:20240203T130000
DTEND;TZID=America/New_York:20240204T220000
DTSTAMP:20260421T054037
CREATED:20240112T184151Z
LAST-MODIFIED:20240112T184151Z
UID:55835-1706965200-1707084000@gasiantimes.com
SUMMARY:Tet Lunar New Year Celebration
DESCRIPTION:Organized by Vietnamese American Community of Georgia\nDate: February 3-4\, 2024\nTime: 1:00pm-10:00pm\nVenue: Plaza Las Americas\nFor more info: 678-820-8822
URL:https://gasiantimes.com/event/tet-lunar-new-year-celebration-2/
LOCATION:Plaza Las Americas\, 733 Pleasant Hill Rd\, Lilburn\, GA\, 30047\, United States
END:VEVENT
BEGIN:VEVENT
DTSTART;TZID=America/New_York:20240203T130000
DTEND;TZID=America/New_York:20240204T220000
DTSTAMP:20260421T054037
CREATED:20240112T184151Z
LAST-MODIFIED:20240112T184207Z
UID:52665-1706965200-1707084000@gasiantimes.com
SUMMARY:Tet Lunar New Year Celebration
DESCRIPTION:Organized by Vietnamese American Community of Georgia\nDate: February 3-4\, 2024\nTime: 1:00pm-10:00pm\nVenue: Plaza Las Americas\nFor more info: 678-820-8822
URL:https://gasiantimes.com/event/tet-lunar-new-year-celebration/
LOCATION:Plaza Las Americas\, 733 Pleasant Hill Rd\, Lilburn\, GA\, 30047\, United States
END:VEVENT
BEGIN:VEVENT
DTSTART;TZID=America/New_York:20240111T190000
DTEND;TZID=America/New_York:20240111T200000
DTSTAMP:20260421T054037
CREATED:20240103T194804Z
LAST-MODIFIED:20240103T194804Z
UID:55831-1704999600-1705003200@gasiantimes.com
SUMMARY:Sonya Clark in Conversation with Monica Obniski
DESCRIPTION:Artist Sonya Clark and Monica Obniski\, Curator of Decorative Arts and Design\, will discuss Clark’s work and ideas\, as presented in the exhibition and beyond. Guests will enjoy special after-hours access to the exhibition.\nDate: Thursday\, Jan 11\, 2024\nTime: 7:00pm-8:00pm\nVenue: High Museum of Arts
URL:https://gasiantimes.com/event/sonya-clark-in-conversation-with-monica-obniski-2/
LOCATION:High Museum\, 1280 Peachtree St NE\,\, Atlanta\, GA\, 30309-3549
END:VEVENT
BEGIN:VEVENT
DTSTART;TZID=America/New_York:20240111T190000
DTEND;TZID=America/New_York:20240111T200000
DTSTAMP:20260421T054037
CREATED:20240103T194804Z
LAST-MODIFIED:20240103T194804Z
UID:52553-1704999600-1705003200@gasiantimes.com
SUMMARY:Sonya Clark in Conversation with Monica Obniski
DESCRIPTION:Artist Sonya Clark and Monica Obniski\, Curator of Decorative Arts and Design\, will discuss Clark’s work and ideas\, as presented in the exhibition and beyond. Guests will enjoy special after-hours access to the exhibition.\nDate: Thursday\, Jan 11\, 2024\nTime: 7:00pm-8:00pm\nVenue: High Museum of Arts
URL:https://gasiantimes.com/event/sonya-clark-in-conversation-with-monica-obniski/
LOCATION:High Museum\, 1280 Peachtree St NE\,\, Atlanta\, GA\, 30309-3549
END:VEVENT
BEGIN:VEVENT
DTSTART;TZID=America/New_York:20240110T090000
DTEND;TZID=America/New_York:20240110T130000
DTSTAMP:20260421T054037
CREATED:20240108T144948Z
LAST-MODIFIED:20240108T144948Z
UID:55833-1704877200-1704891600@gasiantimes.com
SUMMARY:White House Initiative AA and NHPI Economic Summit
DESCRIPTION:Date: Wednesday\, January 10\, 2024\nTime: 9:30am-1:00pm\nVenue: Gas South District-Convention Center\n6400 Sugarloaf Parkway\, Duluth GA 30097\nRegistration Required >>
URL:https://gasiantimes.com/event/white-house-initiative-aa-and-nhpi-economic-summit-2/
LOCATION:Gas South Convention Center\, 6400 Sugarloaf Pkwy\, Duluth\, GA\, 30097\, United States
END:VEVENT
BEGIN:VEVENT
DTSTART;TZID=America/New_York:20240110T090000
DTEND;TZID=America/New_York:20240110T130000
DTSTAMP:20260421T054037
CREATED:20240108T144948Z
LAST-MODIFIED:20240108T144948Z
UID:52607-1704877200-1704891600@gasiantimes.com
SUMMARY:White House Initiative AA and NHPI Economic Summit
DESCRIPTION:Date: Wednesday\, January 10\, 2024\nTime: 9:30am-1:00pm\nVenue: Gas South District-Convention Center\n6400 Sugarloaf Parkway\, Duluth GA 30097\nRegistration Required >>
URL:https://gasiantimes.com/event/white-house-initiative-aa-and-nhpi-economic-summit/
LOCATION:Gas South Convention Center\, 6400 Sugarloaf Pkwy\, Duluth\, GA\, 30097\, United States
END:VEVENT
BEGIN:VEVENT
DTSTART;TZID=America/New_York:20231123T000000
DTEND;TZID=America/New_York:20231123T233000
DTSTAMP:20260421T054037
CREATED:20231116T145114Z
LAST-MODIFIED:20231116T145114Z
UID:52362-1700697600-1700782200@gasiantimes.com
SUMMARY:Thanksgiving Day
DESCRIPTION:
URL:https://gasiantimes.com/event/thanksgiving-day/
END:VEVENT
BEGIN:VEVENT
DTSTART;TZID=America/New_York:20231123T000000
DTEND;TZID=America/New_York:20231123T233000
DTSTAMP:20260421T054037
CREATED:20231116T145114Z
LAST-MODIFIED:20231116T145114Z
UID:55828-1700697600-1700782200@gasiantimes.com
SUMMARY:Thanksgiving Day
DESCRIPTION:
URL:https://gasiantimes.com/event/thanksgiving-day-2/
END:VEVENT
BEGIN:VEVENT
DTSTART;TZID=America/New_York:20231117T200000
DTEND;TZID=America/New_York:20231117T233000
DTSTAMP:20260421T054037
CREATED:20231116T145409Z
LAST-MODIFIED:20231116T145409Z
UID:55830-1700251200-1700263800@gasiantimes.com
SUMMARY:Karaoke Friday Nights @ Ao Corner
DESCRIPTION:Date: Friday\, Nov 17\, 2023\nTime: 8:00pm-12:00 midnight\nVenue: Ao Corner\, 3100 Breckinridge Blvd Ste #745\, Duluth
URL:https://gasiantimes.com/event/karaoke-friday-nights-ao-corner-2/
LOCATION:Ao Corner\, 3100 Breckinridge Blvd Ste #745\, Duluth\, GA
END:VEVENT
BEGIN:VEVENT
DTSTART;TZID=America/New_York:20231117T200000
DTEND;TZID=America/New_York:20231117T233000
DTSTAMP:20260421T054037
CREATED:20231116T145409Z
LAST-MODIFIED:20231116T145515Z
UID:52366-1700251200-1700263800@gasiantimes.com
SUMMARY:Karaoke Friday Nights @ Ao Corner
DESCRIPTION:Date: Friday\, Nov 17\, 2023\nTime: 8:00pm-12:00 midnight\nVenue: Ao Corner\, 3100 Breckinridge Blvd Ste #745\, Duluth
URL:https://gasiantimes.com/event/karaoke-friday-nights-ao-corner/
LOCATION:Ao Corner\, 3100 Breckinridge Blvd Ste #745\, Duluth\, GA
END:VEVENT
BEGIN:VEVENT
DTSTART;TZID=America/New_York:20231117T180000
DTEND;TZID=America/New_York:20231117T220000
DTSTAMP:20260421T054037
CREATED:20231116T145228Z
LAST-MODIFIED:20231116T145228Z
UID:52364-1700244000-1700258400@gasiantimes.com
SUMMARY:Friday Jazz @ The High
DESCRIPTION:Date: Friday\, Nov 17\, 2023\nTime: 6:00pm-10:00pm\nVenue: High Museum of Arts
URL:https://gasiantimes.com/event/friday-jazz-the-high/
LOCATION:High Museum\, 1280 Peachtree St NE\,\, Atlanta\, GA\, 30309-3549
END:VEVENT
BEGIN:VEVENT
DTSTART;TZID=America/New_York:20231117T180000
DTEND;TZID=America/New_York:20231117T220000
DTSTAMP:20260421T054037
CREATED:20231116T145228Z
LAST-MODIFIED:20231116T145228Z
UID:55829-1700244000-1700258400@gasiantimes.com
SUMMARY:Friday Jazz @ The High
DESCRIPTION:Date: Friday\, Nov 17\, 2023\nTime: 6:00pm-10:00pm\nVenue: High Museum of Arts
URL:https://gasiantimes.com/event/friday-jazz-the-high-2/
LOCATION:High Museum\, 1280 Peachtree St NE\,\, Atlanta\, GA\, 30309-3549
END:VEVENT
BEGIN:VEVENT
DTSTART;TZID=America/New_York:20231028T090000
DTEND;TZID=America/New_York:20231028T140000
DTSTAMP:20260421T054037
CREATED:20231019T121924Z
LAST-MODIFIED:20231019T121936Z
UID:52125-1698483600-1698501600@gasiantimes.com
SUMMARY:Korean American Youth Behavioral Health Forum
DESCRIPTION:Date: Saturday\, Oct 28\, 2023\nTime: 9:15am-2:00pm\nVenue: UGA Gwinnett Campus\n2530 Sever Rd\, Unit 100\, Lawrenceville\, GA 30043
URL:https://gasiantimes.com/event/korean-american-youth-behavioral-health-forum-d/
LOCATION:UGA Gwinnett Campus\, 2530 Sever Road\, Lawrenceville\, GA\, 30043
END:VEVENT
BEGIN:VEVENT
DTSTART;TZID=America/New_York:20231028T090000
DTEND;TZID=America/New_York:20231028T140000
DTSTAMP:20260421T054037
CREATED:20231019T121924Z
LAST-MODIFIED:20231019T121924Z
UID:55825-1698483600-1698501600@gasiantimes.com
SUMMARY:Korean American Youth Behavioral Health Forum
DESCRIPTION:Date: Saturday\, Oct 28\, 2023\nTime: 9:15am-2:00pm\nVenue: UGA Gwinnett Campus\n2530 Sever Rd\, Unit 100\, Lawrenceville\, GA 30043
URL:https://gasiantimes.com/event/korean-american-youth-behavioral-health-forum-d-2/
LOCATION:UGA Gwinnett Campus\, 2530 Sever Road\, Lawrenceville\, GA\, 30043
END:VEVENT
BEGIN:VEVENT
DTSTART;TZID=America/New_York:20231027T090000
DTEND;TZID=America/New_York:20231027T120000
DTSTAMP:20260421T054037
CREATED:20231019T122139Z
LAST-MODIFIED:20231019T122139Z
UID:52128-1698397200-1698408000@gasiantimes.com
SUMMARY:Myths and Realities of Small Business Funding
DESCRIPTION:Presented by UGA SBDC Gwinnett\nDate: Oct 27\, 2023\nTime: 9:00am-12:00pm\nVenue: UGA SBDC Gwinnett\nAdmission: Free\nFor more info: www.training.georgiasbdc.org
URL:https://gasiantimes.com/event/myths-and-realities-of-small-business-funding/
LOCATION:UGA Gwinnett Campus\, 2530 Sever Road\, Lawrenceville\, GA\, 30043
END:VEVENT
BEGIN:VEVENT
DTSTART;TZID=America/New_York:20231027T090000
DTEND;TZID=America/New_York:20231027T120000
DTSTAMP:20260421T054037
CREATED:20231019T122139Z
LAST-MODIFIED:20231019T122139Z
UID:55826-1698397200-1698408000@gasiantimes.com
SUMMARY:Myths and Realities of Small Business Funding
DESCRIPTION:Presented by UGA SBDC Gwinnett\nDate: Oct 27\, 2023\nTime: 9:00am-12:00pm\nVenue: UGA SBDC Gwinnett\nAdmission: Free\nFor more info: www.training.georgiasbdc.org
URL:https://gasiantimes.com/event/myths-and-realities-of-small-business-funding-2/
LOCATION:UGA Gwinnett Campus\, 2530 Sever Road\, Lawrenceville\, GA\, 30043
END:VEVENT
BEGIN:VEVENT
DTSTART;TZID=America/New_York:20231027T070000
DTEND;TZID=America/New_York:20231027T100000
DTSTAMP:20260421T054037
CREATED:20231019T122335Z
LAST-MODIFIED:20231019T122459Z
UID:52130-1698390000-1698400800@gasiantimes.com
SUMMARY:Atlanta Regional Commission-State of the Region 2023
DESCRIPTION:Date: Friday\, Oct 27\, 2023\nTime: 7:00 am\nVenue: Georgia World Congress Center\nFor more info: www.atlantaregional.org
URL:https://gasiantimes.com/event/atlanta-regional-commission-state-of-the-region-2023-da/
LOCATION:Georgia World Congress\, Georgia\, United States
END:VEVENT
BEGIN:VEVENT
DTSTART;TZID=America/New_York:20231027T070000
DTEND;TZID=America/New_York:20231027T100000
DTSTAMP:20260421T054037
CREATED:20231019T122335Z
LAST-MODIFIED:20231019T122335Z
UID:55827-1698390000-1698400800@gasiantimes.com
SUMMARY:Atlanta Regional Commission-State of the Region 2023
DESCRIPTION:Date: Friday\, Oct 27\, 2023\nTime: 7:00 am\nVenue: Georgia World Congress Center\nFor more info: www.atlantaregional.org
URL:https://gasiantimes.com/event/atlanta-regional-commission-state-of-the-region-2023-da-2/
LOCATION:Georgia World Congress\, Georgia\, United States
END:VEVENT
BEGIN:VEVENT
DTSTART;TZID=America/New_York:20231018T183000
DTEND;TZID=America/New_York:20231018T213000
DTSTAMP:20260421T054037
CREATED:20231005T122749Z
LAST-MODIFIED:20231005T122749Z
UID:52013-1697653800-1697664600@gasiantimes.com
SUMMARY:High Museum of Art | 2023 Collectors Evening
DESCRIPTION:By purchasing a ticket to this event\, you will have the opportunity to vote for a work of art\, put forth by each curator\, to add to the High Museum of Art’s collection.\nDate: Wednesday Oct 18\, 2023\nTime: 6:30pm\nVenue: High Museum of Art Atlanta
URL:https://gasiantimes.com/event/high-museum-of-art-2023-collectors-evening/
LOCATION:High Museum\, 1280 Peachtree St NE\,\, Atlanta\, GA\, 30309-3549
END:VEVENT
BEGIN:VEVENT
DTSTART;TZID=America/New_York:20231018T183000
DTEND;TZID=America/New_York:20231018T213000
DTSTAMP:20260421T054037
CREATED:20231005T122749Z
LAST-MODIFIED:20231005T122749Z
UID:55824-1697653800-1697664600@gasiantimes.com
SUMMARY:High Museum of Art | 2023 Collectors Evening
DESCRIPTION:By purchasing a ticket to this event\, you will have the opportunity to vote for a work of art\, put forth by each curator\, to add to the High Museum of Art’s collection.\nDate: Wednesday Oct 18\, 2023\nTime: 6:30pm\nVenue: High Museum of Art Atlanta
URL:https://gasiantimes.com/event/high-museum-of-art-2023-collectors-evening-2/
LOCATION:High Museum\, 1280 Peachtree St NE\,\, Atlanta\, GA\, 30309-3549
END:VEVENT
BEGIN:VEVENT
DTSTART;TZID=America/New_York:20231014T180000
DTEND;TZID=America/New_York:20231014T220000
DTSTAMP:20260421T054037
CREATED:20231005T122542Z
LAST-MODIFIED:20231005T122542Z
UID:52010-1697306400-1697320800@gasiantimes.com
SUMMARY:Piyeste - Celebrating Filipino Creatives
DESCRIPTION:Date: Saturday\, Oct 14\, 2023\nTime: 6:00pm\nVenue: Pullman Yards\, AlcoHall\n225 Rogers St. NE Atlanta GA 30317
URL:https://gasiantimes.com/event/piyeste-celebrating-filipino-creatives/
END:VEVENT
BEGIN:VEVENT
DTSTART;TZID=America/New_York:20231014T180000
DTEND;TZID=America/New_York:20231014T220000
DTSTAMP:20260421T054037
CREATED:20231005T122542Z
LAST-MODIFIED:20231005T122542Z
UID:55823-1697306400-1697320800@gasiantimes.com
SUMMARY:Piyeste - Celebrating Filipino Creatives
DESCRIPTION:Date: Saturday\, Oct 14\, 2023\nTime: 6:00pm\nVenue: Pullman Yards\, AlcoHall\n225 Rogers St. NE Atlanta GA 30317
URL:https://gasiantimes.com/event/piyeste-celebrating-filipino-creatives-2/
END:VEVENT
BEGIN:VEVENT
DTSTART;TZID=America/New_York:20230916T110000
DTEND;TZID=America/New_York:20230916T180000
DTSTAMP:20260421T054037
CREATED:20230821T132718Z
LAST-MODIFIED:20230821T132718Z
UID:51792-1694862000-1694887200@gasiantimes.com
SUMMARY:FAA Columbus 34th Anniversary & Induction Celebration
DESCRIPTION:Date: Saturday\, September 16\, 2023\nTime: 11:00 am – 6:00 pm\n5:30 pm cocktails and dinner at 6:30pm dinner\nVenue: Columbus Convention & Trade Center\, 801 Front Street\, Columbus\, GA.
URL:https://gasiantimes.com/event/faa-columbus-34th-anniversary-induction-celebration/
END:VEVENT
BEGIN:VEVENT
DTSTART;TZID=America/New_York:20230916T110000
DTEND;TZID=America/New_York:20230916T180000
DTSTAMP:20260421T054037
CREATED:20230821T132718Z
LAST-MODIFIED:20230821T132718Z
UID:55822-1694862000-1694887200@gasiantimes.com
SUMMARY:FAA Columbus 34th Anniversary & Induction Celebration
DESCRIPTION:Date: Saturday\, September 16\, 2023\nTime: 11:00 am – 6:00 pm\n5:30 pm cocktails and dinner at 6:30pm dinner\nVenue: Columbus Convention & Trade Center\, 801 Front Street\, Columbus\, GA.
URL:https://gasiantimes.com/event/faa-columbus-34th-anniversary-induction-celebration-2/
END:VEVENT
BEGIN:VEVENT
DTSTART;TZID=America/New_York:20230916T100000
DTEND;TZID=America/New_York:20230917T180000
DTSTAMP:20260421T054037
CREATED:20230802T012751Z
LAST-MODIFIED:20230802T012751Z
UID:51616-1694858400-1694973600@gasiantimes.com
SUMMARY:JapanFest 2023
DESCRIPTION:Date: Sat-Sun/Sept 16-17\, 2023\nTime: 10:00am-6:00pm\nVenue: Gas South Convention Center\nFor more info: www.japanfest.org
URL:https://gasiantimes.com/event/japanfest-2023/
LOCATION:Gas South Convention Center\, 6400 Sugarloaf Pkwy\, Duluth\, GA\, 30097\, United States
END:VEVENT
END:VCALENDAR