BEGIN:VCALENDAR
VERSION:2.0
PRODID:-//Georgia Asian Times - ECPv6.15.20//NONSGML v1.0//EN
CALSCALE:GREGORIAN
METHOD:PUBLISH
X-WR-CALNAME:Georgia Asian Times
X-ORIGINAL-URL:https://gasiantimes.com
X-WR-CALDESC:Events for Georgia Asian Times
REFRESH-INTERVAL;VALUE=DURATION:PT1H
X-Robots-Tag:noindex
X-PUBLISHED-TTL:PT1H
BEGIN:VTIMEZONE
TZID:America/New_York
BEGIN:DAYLIGHT
TZOFFSETFROM:-0500
TZOFFSETTO:-0400
TZNAME:EDT
DTSTART:20200308T070000
END:DAYLIGHT
BEGIN:STANDARD
TZOFFSETFROM:-0400
TZOFFSETTO:-0500
TZNAME:EST
DTSTART:20201101T060000
END:STANDARD
BEGIN:DAYLIGHT
TZOFFSETFROM:-0500
TZOFFSETTO:-0400
TZNAME:EDT
DTSTART:20210314T070000
END:DAYLIGHT
BEGIN:STANDARD
TZOFFSETFROM:-0400
TZOFFSETTO:-0500
TZNAME:EST
DTSTART:20211107T060000
END:STANDARD
BEGIN:DAYLIGHT
TZOFFSETFROM:-0500
TZOFFSETTO:-0400
TZNAME:EDT
DTSTART:20220313T070000
END:DAYLIGHT
BEGIN:STANDARD
TZOFFSETFROM:-0400
TZOFFSETTO:-0500
TZNAME:EST
DTSTART:20221106T060000
END:STANDARD
BEGIN:DAYLIGHT
TZOFFSETFROM:-0500
TZOFFSETTO:-0400
TZNAME:EDT
DTSTART:20230312T070000
END:DAYLIGHT
BEGIN:STANDARD
TZOFFSETFROM:-0400
TZOFFSETTO:-0500
TZNAME:EST
DTSTART:20231105T060000
END:STANDARD
END:VTIMEZONE
BEGIN:VEVENT
DTSTART;TZID=America/New_York:20220316T180000
DTEND;TZID=America/New_York:20220316T193000
DTSTAMP:20260421T195953
CREATED:20220314T133913Z
LAST-MODIFIED:20220314T133913Z
UID:55776-1647453600-1647459000@gasiantimes.com
SUMMARY:Atlanta March 16 Shooting Commemoration
DESCRIPTION:Organized by Korean American Association of Greater Atlanta\nDate: Wednesday\, March 16\, 2022\nTime: 6:00pm-7:30pm\nVenue: Korean American Center 5900 Brook Hollow Pkwy
URL:https://gasiantimes.com/event/atlanta-march-16-shooting-commemoration-2/
END:VEVENT
BEGIN:VEVENT
DTSTART;TZID=America/New_York:20220316T120000
DTEND;TZID=America/New_York:20220316T150000
DTSTAMP:20260421T195953
CREATED:20220301T150438Z
LAST-MODIFIED:20220303T133538Z
UID:43838-1647432000-1647442800@gasiantimes.com
SUMMARY:3.16 Asian Justice Rally-Justice for AAPI women
DESCRIPTION:Organized by Georgia Advancing Progress Political Action Committee (GAPPAC)\nDate: Wednesday\, March 16\, 2022\nTime: 12pm-3pm; Open to public\nVenue: Liberty Plaza/Georgia State Capitol.
URL:https://gasiantimes.com/event/3-16-anniversary-remembrance/
ATTACH;FMTTYPE=image/jpeg:https://gasiantimes.com/wp-content/uploads/2022/03/DSC02814-scaled.jpg
END:VEVENT
BEGIN:VEVENT
DTSTART;TZID=America/New_York:20220316T120000
DTEND;TZID=America/New_York:20220316T150000
DTSTAMP:20260421T195953
CREATED:20220301T150438Z
LAST-MODIFIED:20220301T150438Z
UID:55775-1647432000-1647442800@gasiantimes.com
SUMMARY:3.16 Asian Justice Rally-Justice for AAPI women
DESCRIPTION:Organized by Georgia Advancing Progress Political Action Committee (GAPPAC)\nDate: Wednesday\, March 16\, 2022\nTime: 12pm-3pm; Open to public\nVenue: Liberty Plaza/Georgia State Capitol.
URL:https://gasiantimes.com/event/3-16-anniversary-remembrance-2/
ATTACH;FMTTYPE=image/jpeg:https://gasiantimes.com/wp-content/uploads/2022/03/DSC02814-scaled.jpg
END:VEVENT
BEGIN:VEVENT
DTSTART;TZID=America/New_York:20220308T090000
DTEND;TZID=America/New_York:20220308T150000
DTSTAMP:20260421T195953
CREATED:20220301T145826Z
LAST-MODIFIED:20220301T145826Z
UID:55774-1646730000-1646751600@gasiantimes.com
SUMMARY:Symposium on Asia-USA Partnership Opportunities (SAUPO)
DESCRIPTION:SAUPO 2022\nOrganized by Kennesaw State University\nDate: Friday\, April 8\, 2022\nTime: 9:00am-3:00pm\nVenue: Renaissance Atlanta Waverly Hotel & Convention Center\n2450 Galleria Pkwy\, Atlanta GA 30339
URL:https://gasiantimes.com/event/symposium-on-asia-usa-opportunities-saupo-2/
END:VEVENT
BEGIN:VEVENT
DTSTART;TZID=America/New_York:20220308T090000
DTEND;TZID=America/New_York:20220308T150000
DTSTAMP:20260421T195953
CREATED:20220301T145826Z
LAST-MODIFIED:20220301T150657Z
UID:43835-1646730000-1646751600@gasiantimes.com
SUMMARY:Symposium on Asia-USA Partnership Opportunities (SAUPO)
DESCRIPTION:SAUPO 2022\nOrganized by Kennesaw State University\nDate: Friday\, April 8\, 2022\nTime: 9:00am-3:00pm\nVenue: Renaissance Atlanta Waverly Hotel & Convention Center\n2450 Galleria Pkwy\, Atlanta GA 30339
URL:https://gasiantimes.com/event/symposium-on-asia-usa-opportunities-saupo/
END:VEVENT
BEGIN:VEVENT
DTSTART;TZID=America/New_York:20220225T110000
DTEND;TZID=America/New_York:20220225T123000
DTSTAMP:20260421T195953
CREATED:20220214T143445Z
LAST-MODIFIED:20220214T143445Z
UID:43724-1645786800-1645792200@gasiantimes.com
SUMMARY:3.16: Stop Asian Hate - What have we learned?
DESCRIPTION:Webinar by Georgia Asian Times\nDate: Friday\, Feb 25\, 2022\nTime: 11:00am-12:15 pm\nRegistration required: https://gasiantimes.com/hhy6
URL:https://gasiantimes.com/event/3-16-stop-asian-hate-what-have-we-learned/
END:VEVENT
BEGIN:VEVENT
DTSTART;TZID=America/New_York:20220225T110000
DTEND;TZID=America/New_York:20220225T123000
DTSTAMP:20260421T195953
CREATED:20220214T143445Z
LAST-MODIFIED:20220214T143445Z
UID:55772-1645786800-1645792200@gasiantimes.com
SUMMARY:3.16: Stop Asian Hate - What have we learned?
DESCRIPTION:Webinar by Georgia Asian Times\nDate: Friday\, Feb 25\, 2022\nTime: 11:00am-12:15 pm\nRegistration required: https://gasiantimes.com/hhy6
URL:https://gasiantimes.com/event/3-16-stop-asian-hate-what-have-we-learned-2/
END:VEVENT
BEGIN:VEVENT
DTSTART;TZID=America/New_York:20220219T140000
DTEND;TZID=America/New_York:20220219T173000
DTSTAMP:20260421T195953
CREATED:20220214T143630Z
LAST-MODIFIED:20220214T143630Z
UID:55773-1645279200-1645291800@gasiantimes.com
SUMMARY:Chin National Day & Fundraising Food Fair for Myanmar
DESCRIPTION:Organized by Burmese Chin Community of Atlanta\nDate: Saturday\, Feb 19\, 2022\nTime: 2:00pm-5:30pm\nVenue: Gujarati Samaj Atlanta\n5331 Royal Woods Pkwy\, Tucker GA 30084
URL:https://gasiantimes.com/event/chin-national-day-fundraising-food-fair-for-myanmar-2/
END:VEVENT
BEGIN:VEVENT
DTSTART;TZID=America/New_York:20220219T140000
DTEND;TZID=America/New_York:20220219T173000
DTSTAMP:20260421T195953
CREATED:20220214T143630Z
LAST-MODIFIED:20220214T143630Z
UID:43726-1645279200-1645291800@gasiantimes.com
SUMMARY:Chin National Day & Fundraising Food Fair for Myanmar
DESCRIPTION:Organized by Burmese Chin Community of Atlanta\nDate: Saturday\, Feb 19\, 2022\nTime: 2:00pm-5:30pm\nVenue: Gujarati Samaj Atlanta\n5331 Royal Woods Pkwy\, Tucker GA 30084
URL:https://gasiantimes.com/event/chin-national-day-fundraising-food-fair-for-myanmar/
END:VEVENT
BEGIN:VEVENT
DTSTART;TZID=America/New_York:20220130T140000
DTEND;TZID=America/New_York:20220130T160000
DTSTAMP:20260421T195953
CREATED:20220125T134420Z
LAST-MODIFIED:20220125T134420Z
UID:43572-1643551200-1643558400@gasiantimes.com
SUMMARY:Asian Justice Rally Atlanta
DESCRIPTION:Virtual rally & press conference\nDate: Sunday\, Jan 30\, 2022\nTime: 2:00pm\nPlease RSVP and share Facebook page: https://www.facebook.com/events/679951930054418/
URL:https://gasiantimes.com/event/asian-justice-rally-atlanta/
END:VEVENT
BEGIN:VEVENT
DTSTART;TZID=America/New_York:20220130T140000
DTEND;TZID=America/New_York:20220130T160000
DTSTAMP:20260421T195953
CREATED:20220125T134420Z
LAST-MODIFIED:20220125T134420Z
UID:55770-1643551200-1643558400@gasiantimes.com
SUMMARY:Asian Justice Rally Atlanta
DESCRIPTION:Virtual rally & press conference\nDate: Sunday\, Jan 30\, 2022\nTime: 2:00pm\nPlease RSVP and share Facebook page: https://www.facebook.com/events/679951930054418/
URL:https://gasiantimes.com/event/asian-justice-rally-atlanta-2/
END:VEVENT
BEGIN:VEVENT
DTSTART;TZID=America/New_York:20220130T130000
DTEND;TZID=America/New_York:20220130T160000
DTSTAMP:20260421T195953
CREATED:20220125T134713Z
LAST-MODIFIED:20220125T134713Z
UID:43576-1643547600-1643558400@gasiantimes.com
SUMMARY:Lunar New Year Celebration
DESCRIPTION:Presented by FASCA & Atlanta Chinese School\nDate: January 30\, 2022\nTime: 1:00pm-4:00pm\nVenue: Chinese Culture Center\n5377 New Peachtree Road\, Chamblee GA 30341
URL:https://gasiantimes.com/event/lunar-new-year-celebration/
END:VEVENT
BEGIN:VEVENT
DTSTART;TZID=America/New_York:20220130T130000
DTEND;TZID=America/New_York:20220130T160000
DTSTAMP:20260421T195953
CREATED:20220125T134713Z
LAST-MODIFIED:20220125T134713Z
UID:55771-1643547600-1643558400@gasiantimes.com
SUMMARY:Lunar New Year Celebration
DESCRIPTION:Presented by FASCA & Atlanta Chinese School\nDate: January 30\, 2022\nTime: 1:00pm-4:00pm\nVenue: Chinese Culture Center\n5377 New Peachtree Road\, Chamblee GA 30341
URL:https://gasiantimes.com/event/lunar-new-year-celebration-2/
END:VEVENT
BEGIN:VEVENT
DTSTART;TZID=America/New_York:20220130T080000
DTEND;TZID=America/New_York:20220130T180000
DTSTAMP:20260421T195953
CREATED:20220114T182104Z
LAST-MODIFIED:20220114T182104Z
UID:43484-1643529600-1643565600@gasiantimes.com
SUMMARY:Miss Vietnam Georgia Pageant 2022
DESCRIPTION:Date: Jan 30\, 2022\nTime: 11:00am-6:00pm\nVenue: Space Ballroom\, 6100 Live Oak Parkway\,\nNorcross GA 30093
URL:https://gasiantimes.com/event/miss-vietnam-georgia-pageant-2022/
END:VEVENT
BEGIN:VEVENT
DTSTART;TZID=America/New_York:20220130T080000
DTEND;TZID=America/New_York:20220130T180000
DTSTAMP:20260421T195953
CREATED:20220114T182104Z
LAST-MODIFIED:20220114T182104Z
UID:55768-1643529600-1643565600@gasiantimes.com
SUMMARY:Miss Vietnam Georgia Pageant 2022
DESCRIPTION:Date: Jan 30\, 2022\nTime: 11:00am-6:00pm\nVenue: Space Ballroom\, 6100 Live Oak Parkway\,\nNorcross GA 30093
URL:https://gasiantimes.com/event/miss-vietnam-georgia-pageant-2022-2/
END:VEVENT
BEGIN:VEVENT
DTSTART;TZID=America/New_York:20220123T110000
DTEND;TZID=America/New_York:20220123T160000
DTSTAMP:20260421T195953
CREATED:20220115T190309Z
LAST-MODIFIED:20220115T190309Z
UID:43490-1642935600-1642953600@gasiantimes.com
SUMMARY:Myanmar Foods and Friends
DESCRIPTION:Fundraising for Myanmar by We Love Myanmar\nDate: Saturday\, Jan 23\, 2022\nTime: 11:00am-4:00pm\nVenue: Refugee Cafe\, 4170 East Ponce De Leon Avenue\,\nClarkston GA 30021
URL:https://gasiantimes.com/event/myanmar-foods-and-friends/
END:VEVENT
BEGIN:VEVENT
DTSTART;TZID=America/New_York:20220123T110000
DTEND;TZID=America/New_York:20220123T160000
DTSTAMP:20260421T195953
CREATED:20220115T190309Z
LAST-MODIFIED:20220115T190309Z
UID:55769-1642935600-1642953600@gasiantimes.com
SUMMARY:Myanmar Foods and Friends
DESCRIPTION:Fundraising for Myanmar by We Love Myanmar\nDate: Saturday\, Jan 23\, 2022\nTime: 11:00am-4:00pm\nVenue: Refugee Cafe\, 4170 East Ponce De Leon Avenue\,\nClarkston GA 30021
URL:https://gasiantimes.com/event/myanmar-foods-and-friends-2/
END:VEVENT
BEGIN:VEVENT
DTSTART;TZID=America/New_York:20211218T100000
DTEND;TZID=America/New_York:20211218T140000
DTSTAMP:20260421T195953
CREATED:20211209T010157Z
LAST-MODIFIED:20211209T010157Z
UID:55767-1639821600-1639836000@gasiantimes.com
SUMMARY:Free Holiday Healing Event
DESCRIPTION:Organized by We Love Buford Highway\, The Center for Pan Asian Community Services (CPACS)\, Chamblee Charter High School\, Cross Keys High School\, Oglethorpe University Museum of Art\nDate: Dec 18\, 2021\nTime: 10:00am-2:00pm\nVenue:CPACS\, 3510 Shallowford Road
URL:https://gasiantimes.com/event/free-holiday-healing-event-2/
END:VEVENT
BEGIN:VEVENT
DTSTART;TZID=America/New_York:20211218T100000
DTEND;TZID=America/New_York:20211218T140000
DTSTAMP:20260421T195953
CREATED:20211209T010157Z
LAST-MODIFIED:20211209T010157Z
UID:43230-1639821600-1639836000@gasiantimes.com
SUMMARY:Free Holiday Healing Event
DESCRIPTION:Organized by We Love Buford Highway\, The Center for Pan Asian Community Services (CPACS)\, Chamblee Charter High School\, Cross Keys High School\, Oglethorpe University Museum of Art\nDate: Dec 18\, 2021\nTime: 10:00am-2:00pm\nVenue:CPACS\, 3510 Shallowford Road
URL:https://gasiantimes.com/event/free-holiday-healing-event/
END:VEVENT
BEGIN:VEVENT
DTSTART;TZID=America/New_York:20211214T180000
DTEND;TZID=America/New_York:20211214T200000
DTSTAMP:20260421T195953
CREATED:20211128T150149Z
LAST-MODIFIED:20211128T150149Z
UID:43163-1639504800-1639512000@gasiantimes.com
SUMMARY:2021 Bonenkai Holiday Celebration
DESCRIPTION:Date: Tuesday\, Dec 14\, 2021\nTime: 6:00 pm\nVenue: Piedmont Driving Club\, 1215 Piedmont Avenue NE\, Atlanta GA 30309
URL:https://gasiantimes.com/event/2021-bonenkai-holiday-celebration/
END:VEVENT
BEGIN:VEVENT
DTSTART;TZID=America/New_York:20211214T180000
DTEND;TZID=America/New_York:20211214T200000
DTSTAMP:20260421T195953
CREATED:20211128T150149Z
LAST-MODIFIED:20211128T150149Z
UID:55765-1639504800-1639512000@gasiantimes.com
SUMMARY:2021 Bonenkai Holiday Celebration
DESCRIPTION:Date: Tuesday\, Dec 14\, 2021\nTime: 6:00 pm\nVenue: Piedmont Driving Club\, 1215 Piedmont Avenue NE\, Atlanta GA 30309
URL:https://gasiantimes.com/event/2021-bonenkai-holiday-celebration-2/
END:VEVENT
BEGIN:VEVENT
DTSTART;TZID=America/New_York:20211209T180000
DTEND;TZID=America/New_York:20211209T210000
DTSTAMP:20260421T195953
CREATED:20211128T150409Z
LAST-MODIFIED:20211128T150409Z
UID:43165-1639072800-1639083600@gasiantimes.com
SUMMARY:National Association of Chinese Americans (NACA) Christmas Party
DESCRIPTION:By invitation only\nDate: Thursday\, Dec 9\, 2021\nTime: 6:00pm-9:00pm\nVenue: Canton House
URL:https://gasiantimes.com/event/national-association-of-chinese-americans-naca-christmas-party/
END:VEVENT
BEGIN:VEVENT
DTSTART;TZID=America/New_York:20211209T180000
DTEND;TZID=America/New_York:20211209T210000
DTSTAMP:20260421T195953
CREATED:20211128T150409Z
LAST-MODIFIED:20211128T150409Z
UID:55766-1639072800-1639083600@gasiantimes.com
SUMMARY:National Association of Chinese Americans (NACA) Christmas Party
DESCRIPTION:By invitation only\nDate: Thursday\, Dec 9\, 2021\nTime: 6:00pm-9:00pm\nVenue: Canton House
URL:https://gasiantimes.com/event/national-association-of-chinese-americans-naca-christmas-party-2/
END:VEVENT
BEGIN:VEVENT
DTSTART;TZID=America/New_York:20211206T180000
DTEND;TZID=America/New_York:20211206T200000
DTSTAMP:20260421T195953
CREATED:20211029T213232Z
LAST-MODIFIED:20211029T213232Z
UID:42895-1638813600-1638820800@gasiantimes.com
SUMMARY:Philippine American Chamber of Commerce of Georgia Inc.  - Annual Meeting\, Election of 2022 Board of Directors\,  and Members Only Christmas Party.
DESCRIPTION:Date: Monday\, December 6\, 2021\nTime: 6:00 pm\nVenue: Pho Viet Number One\, 6025 Peachtree Pkwy.\, Suite 9\, Peachtree Corners\, GA 30092.
URL:https://gasiantimes.com/event/philippine-american-chamber-of-commerce-of-georgia-inc-annual-meeting-election-of-2022-board-of-directors-and-members-only-christmas-party/
LOCATION:6025 Peachtree Pkwy.\, Suite 9\, Peachtree Corners\, GA 30092.\, 6025 Peachtree Pkwy.\, Suite 9\,\, Peachtree Corners\, GA\, 30092
END:VEVENT
BEGIN:VEVENT
DTSTART;TZID=America/New_York:20211206T180000
DTEND;TZID=America/New_York:20211206T200000
DTSTAMP:20260421T195953
CREATED:20211029T213232Z
LAST-MODIFIED:20211029T213232Z
UID:55763-1638813600-1638820800@gasiantimes.com
SUMMARY:Philippine American Chamber of Commerce of Georgia Inc.  - Annual Meeting\, Election of 2022 Board of Directors\,  and Members Only Christmas Party.
DESCRIPTION:Date: Monday\, December 6\, 2021\nTime: 6:00 pm\nVenue: Pho Viet Number One\, 6025 Peachtree Pkwy.\, Suite 9\, Peachtree Corners\, GA 30092.
URL:https://gasiantimes.com/event/philippine-american-chamber-of-commerce-of-georgia-inc-annual-meeting-election-of-2022-board-of-directors-and-members-only-christmas-party-2/
LOCATION:6025 Peachtree Pkwy.\, Suite 9\, Peachtree Corners\, GA 30092.\, 6025 Peachtree Pkwy.\, Suite 9\,\, Peachtree Corners\, GA\, 30092
END:VEVENT
BEGIN:VEVENT
DTSTART;TZID=America/New_York:20211116T090000
DTEND;TZID=America/New_York:20211116T120000
DTSTAMP:20260421T195953
CREATED:20211105T135426Z
LAST-MODIFIED:20211105T135426Z
UID:42996-1637053200-1637064000@gasiantimes.com
SUMMARY:AAPI Community Safety Webinar
DESCRIPTION:Organized by US Homeland Security-Cybersecurity and Infrastructure Security Agency\nDate: Tuesday\, Nov 16\, 2021\nTime: 9:00am-12:00pm\nRegistration required: https://www.eventbrite.com/e/aapi-hometown-security-tickets-195914263837
URL:https://gasiantimes.com/event/aapi-community-safety-webinar/
END:VEVENT
BEGIN:VEVENT
DTSTART;TZID=America/New_York:20211116T090000
DTEND;TZID=America/New_York:20211116T120000
DTSTAMP:20260421T195953
CREATED:20211105T135426Z
LAST-MODIFIED:20211105T135426Z
UID:55764-1637053200-1637064000@gasiantimes.com
SUMMARY:AAPI Community Safety Webinar
DESCRIPTION:Organized by US Homeland Security-Cybersecurity and Infrastructure Security Agency\nDate: Tuesday\, Nov 16\, 2021\nTime: 9:00am-12:00pm\nRegistration required: https://www.eventbrite.com/e/aapi-hometown-security-tickets-195914263837
URL:https://gasiantimes.com/event/aapi-community-safety-webinar-2/
END:VEVENT
BEGIN:VEVENT
DTSTART;TZID=America/New_York:20211023T180000
DTEND;TZID=America/New_York:20211023T220000
DTSTAMP:20260421T195953
CREATED:20211001T142719Z
LAST-MODIFIED:20211001T142719Z
UID:42283-1635012000-1635026400@gasiantimes.com
SUMMARY:24th Annual Chopstix for Charity Gala
DESCRIPTION:Date: Sat Oct 23\, 2021\nTime: 6:00pm-10:00pm\nVenue: The Carlyle\, Atlanta\nFor more info: cfcatl@naaap.org
URL:https://gasiantimes.com/event/24th-annual-chopstix-for-charity-gala/
LOCATION:The Caryle\, 1919 Piedmont Road NE\, Atlanta\, GA\, 30324
END:VEVENT
BEGIN:VEVENT
DTSTART;TZID=America/New_York:20211023T180000
DTEND;TZID=America/New_York:20211023T220000
DTSTAMP:20260421T195953
CREATED:20211001T142719Z
LAST-MODIFIED:20211001T142719Z
UID:55761-1635012000-1635026400@gasiantimes.com
SUMMARY:24th Annual Chopstix for Charity Gala
DESCRIPTION:Date: Sat Oct 23\, 2021\nTime: 6:00pm-10:00pm\nVenue: The Carlyle\, Atlanta\nFor more info: cfcatl@naaap.org
URL:https://gasiantimes.com/event/24th-annual-chopstix-for-charity-gala-2/
LOCATION:The Caryle\, 1919 Piedmont Road NE\, Atlanta\, GA\, 30324
END:VEVENT
BEGIN:VEVENT
DTSTART;TZID=America/New_York:20211009T180000
DTEND;TZID=America/New_York:20211009T213000
DTSTAMP:20260421T195953
CREATED:20210923T123957Z
LAST-MODIFIED:20210923T123957Z
UID:42082-1633802400-1633815000@gasiantimes.com
SUMMARY:USPAACC-SE 5th Annual DIA Awards Gala
DESCRIPTION:Date: Saturday\, Oct 9\, 2021\nTime: 6:00pm-9:30pm\nVenue: Georgia Aquarium\nFor more info: www.uspaaccse.org
URL:https://gasiantimes.com/event/uspaacc-se-5th-annual-dia-awards-gala/
END:VEVENT
END:VCALENDAR