BEGIN:VCALENDAR
VERSION:2.0
PRODID:-//Georgia Asian Times - ECPv6.15.20//NONSGML v1.0//EN
CALSCALE:GREGORIAN
METHOD:PUBLISH
X-ORIGINAL-URL:https://gasiantimes.com
X-WR-CALDESC:Events for Georgia Asian Times
REFRESH-INTERVAL;VALUE=DURATION:PT1H
X-Robots-Tag:noindex
X-PUBLISHED-TTL:PT1H
BEGIN:VTIMEZONE
TZID:America/New_York
BEGIN:DAYLIGHT
TZOFFSETFROM:-0500
TZOFFSETTO:-0400
TZNAME:EDT
DTSTART:20210314T070000
END:DAYLIGHT
BEGIN:STANDARD
TZOFFSETFROM:-0400
TZOFFSETTO:-0500
TZNAME:EST
DTSTART:20211107T060000
END:STANDARD
BEGIN:DAYLIGHT
TZOFFSETFROM:-0500
TZOFFSETTO:-0400
TZNAME:EDT
DTSTART:20220313T070000
END:DAYLIGHT
BEGIN:STANDARD
TZOFFSETFROM:-0400
TZOFFSETTO:-0500
TZNAME:EST
DTSTART:20221106T060000
END:STANDARD
BEGIN:DAYLIGHT
TZOFFSETFROM:-0500
TZOFFSETTO:-0400
TZNAME:EDT
DTSTART:20230312T070000
END:DAYLIGHT
BEGIN:STANDARD
TZOFFSETFROM:-0400
TZOFFSETTO:-0500
TZNAME:EST
DTSTART:20231105T060000
END:STANDARD
END:VTIMEZONE
BEGIN:VEVENT
DTSTART;TZID=America/New_York:20220609T180000
DTEND;TZID=America/New_York:20220609T210000
DTSTAMP:20260421T172730
CREATED:20220608T123852Z
LAST-MODIFIED:20220608T123852Z
UID:55792-1654797600-1654808400@gasiantimes.com
SUMMARY:Multicultural Festival
DESCRIPTION:Organized by Federation of Korean Associations\, Southeast (FKASE)\, USA\nDate: June 9\, 2022\nTime: 6:00pm\nVenue: Korean American Community Center\, 5900 Brook Hollow Pkwy\, Norcross\, GA 30071
URL:https://gasiantimes.com/event/multicultural-festival-2/
LOCATION:Korean American Association of Georgia\, 5900 Brook Hollow Parkway\, Norcross\, GA\, 30071
END:VEVENT
BEGIN:VEVENT
DTSTART;TZID=America/New_York:20220521T100000
DTEND;TZID=America/New_York:20220521T120000
DTSTAMP:20260421T172730
CREATED:20220503T120431Z
LAST-MODIFIED:20220510T151017Z
UID:44471-1653127200-1653134400@gasiantimes.com
SUMMARY:Gwinnett AAPI Mental Health Gathering
DESCRIPTION:Date: Saturday\, May 21\, 2022\nTime: 10:00am-12:00pm\nVenue: The Water Tower\, 2500 Clean Water Court\, Buford\, GA 30519\nTo register visit GCGA.us/AAPIMentalHealth
URL:https://gasiantimes.com/event/gwinnett-aapi-mental-health-forum/
LOCATION:2500 Clean Water Court\, Buford\, GA 30519\, 2500 Clean Water Court\, Buford\, GA\, 30519
END:VEVENT
BEGIN:VEVENT
DTSTART;TZID=America/New_York:20220521T100000
DTEND;TZID=America/New_York:20220521T120000
DTSTAMP:20260421T172730
CREATED:20220503T120431Z
LAST-MODIFIED:20220503T120431Z
UID:55789-1653127200-1653134400@gasiantimes.com
SUMMARY:Gwinnett AAPI Mental Health Gathering
DESCRIPTION:Date: Saturday\, May 21\, 2022\nTime: 10:00am-12:00pm\nVenue: The Water Tower\, 2500 Clean Water Court\, Buford\, GA 30519\nTo register visit GCGA.us/AAPIMentalHealth
URL:https://gasiantimes.com/event/gwinnett-aapi-mental-health-forum-2/
LOCATION:2500 Clean Water Court\, Buford\, GA 30519\, 2500 Clean Water Court\, Buford\, GA\, 30519
END:VEVENT
BEGIN:VEVENT
DTSTART;TZID=America/New_York:20220514T100000
DTEND;TZID=America/New_York:20220514T140000
DTSTAMP:20260421T172730
CREATED:20220416T142733Z
LAST-MODIFIED:20220416T142733Z
UID:44219-1652522400-1652536800@gasiantimes.com
SUMMARY:Gwinnett Multicultural Festival
DESCRIPTION:Date: Saturday May 14\, 2022\nTime: 10:00am-2:00pm\nVenue: Gwinnett Place Mall\nFor more info: 678.442.6571
URL:https://gasiantimes.com/event/gwinnett-multicultural-festival/
END:VEVENT
BEGIN:VEVENT
DTSTART;TZID=America/New_York:20220514T100000
DTEND;TZID=America/New_York:20220514T140000
DTSTAMP:20260421T172730
CREATED:20220416T142733Z
LAST-MODIFIED:20220416T142733Z
UID:55781-1652522400-1652536800@gasiantimes.com
SUMMARY:Gwinnett Multicultural Festival
DESCRIPTION:Date: Saturday May 14\, 2022\nTime: 10:00am-2:00pm\nVenue: Gwinnett Place Mall\nFor more info: 678.442.6571
URL:https://gasiantimes.com/event/gwinnett-multicultural-festival-2/
END:VEVENT
BEGIN:VEVENT
DTSTART;TZID=America/New_York:20220507T183000
DTEND;TZID=America/New_York:20220507T213000
DTSTAMP:20260421T172730
CREATED:20220429T120457Z
LAST-MODIFIED:20220429T120457Z
UID:44387-1651948200-1651959000@gasiantimes.com
SUMMARY:NACA Spring Festival 2022
DESCRIPTION:Date: Saturday\, May 7\, 2022\nTime: 6:30 pm\nVenue: Canton House\, Buford Highway
URL:https://gasiantimes.com/event/naca-spring-festival-2022/
END:VEVENT
BEGIN:VEVENT
DTSTART;TZID=America/New_York:20220507T183000
DTEND;TZID=America/New_York:20220507T213000
DTSTAMP:20260421T172730
CREATED:20220429T120457Z
LAST-MODIFIED:20220429T120457Z
UID:55788-1651948200-1651959000@gasiantimes.com
SUMMARY:NACA Spring Festival 2022
DESCRIPTION:Date: Saturday\, May 7\, 2022\nTime: 6:30 pm\nVenue: Canton House\, Buford Highway
URL:https://gasiantimes.com/event/naca-spring-festival-2022-2/
END:VEVENT
BEGIN:VEVENT
DTSTART;TZID=America/New_York:20220507T130000
DTEND;TZID=America/New_York:20220528T150000
DTSTAMP:20260421T172730
CREATED:20220503T230906Z
LAST-MODIFIED:20220503T230906Z
UID:55790-1651928400-1653750000@gasiantimes.com
SUMMARY:Gwinnett County Public Library & Georgia Asian Times | AAPI Heritage Month - Speaker Series
DESCRIPTION:AAPI Heritage Month – Speaker Series\nPresented by Gwinnett County Public Library & Georgia Asian Times\nVenue: Suwanee Branch\nFeaturing Soo Hong (Korean community) & Dao Malaythong (Laotian community)\nDate: Saturday\, May 7\, 2022\nTime: 1:00pm-3:00pm \nVenue: Lilburn Branch\nFeaturing Sheetal Desai (Indian community) & Lily Pabian (Taiwanese community)\nDate: Sunday\, May 15\, 2022\nTime: 2:00-3:00pm \nVenue: Duluth Branch\nFeaturing Cheryl Pe (Filipino Community) and Victoria Huynh (Vietnamese Community)\nDate: Saturday\, May 21\, 2022\nTime: 12:30pm-1:30pm \nVenue: Peachtree Corners Branch\nFeaturing Cam Ashling (Vietnamese) & Amy Chomthakam (Lao Community)\nDate: Saturday\, May 28\, 2022\nTime: 11:00am-12:00pm
URL:https://gasiantimes.com/event/gwinnett-county-public-library-georgia-asian-times-aapi-heritage-month-speaker-series-2/
END:VEVENT
BEGIN:VEVENT
DTSTART;TZID=America/New_York:20220507T130000
DTEND;TZID=America/New_York:20220528T150000
DTSTAMP:20260421T172730
CREATED:20220503T230906Z
LAST-MODIFIED:20220522T144745Z
UID:44483-1651928400-1653750000@gasiantimes.com
SUMMARY:Gwinnett County Public Library & Georgia Asian Times | AAPI Heritage Month - Speaker Series
DESCRIPTION:AAPI Heritage Month – Speaker Series\nPresented by Gwinnett County Public Library & Georgia Asian Times\nVenue: Suwanee Branch\nFeaturing Soo Hong (Korean community) & Dao Malaythong (Laotian community)\nDate: Saturday\, May 7\, 2022\nTime: 1:00pm-3:00pm \nVenue: Lilburn Branch\nFeaturing Sheetal Desai (Indian community) & Lily Pabian (Taiwanese community)\nDate: Sunday\, May 15\, 2022\nTime: 2:00-3:00pm \nVenue: Duluth Branch\nFeaturing Cheryl Pe (Filipino Community) and Victoria Huynh (Vietnamese Community)\nDate: Saturday\, May 21\, 2022\nTime: 12:30pm-1:30pm \nVenue: Peachtree Corners Branch\nFeaturing Cam Ashling (Vietnamese) & Amy Chomthakam (Lao Community)\nDate: Saturday\, May 28\, 2022\nTime: 11:00am-12:00pm
URL:https://gasiantimes.com/event/gwinnett-county-public-library-georgia-asian-times-aapi-heritage-month-speaker-series/
END:VEVENT
BEGIN:VEVENT
DTSTART;TZID=America/New_York:20220428T100000
DTEND;TZID=America/New_York:20220428T120000
DTSTAMP:20260421T172730
CREATED:20220426T132544Z
LAST-MODIFIED:20220426T132544Z
UID:44310-1651140000-1651147200@gasiantimes.com
SUMMARY:Conversation with Stacey Abrams\, Democratic Party Candidate for Governor of Georgia
DESCRIPTION:Presented by Ethnic Media Collaboration of Atlanta Voice\, Georgia Asian Times & Mundo Hispanico\nDate: Thursday\, April 28\, 2022\nTime: 10:00am-12:00pm\nVenue The Grand Ivy Point\, Suwanee
URL:https://gasiantimes.com/event/conversation-with-stacey-abrams-democratic-party-candidate-for-governor-of-georgia/
ATTACH;FMTTYPE=image/jpeg:https://gasiantimes.com/wp-content/uploads/2022/04/StaceyAbrams.EMC_.NewFaceofGeorgia.Final_.Horizontal.jpeg
END:VEVENT
BEGIN:VEVENT
DTSTART;TZID=America/New_York:20220428T100000
DTEND;TZID=America/New_York:20220428T120000
DTSTAMP:20260421T172730
CREATED:20220426T132544Z
LAST-MODIFIED:20220426T132544Z
UID:55787-1651140000-1651147200@gasiantimes.com
SUMMARY:Conversation with Stacey Abrams\, Democratic Party Candidate for Governor of Georgia
DESCRIPTION:Presented by Ethnic Media Collaboration of Atlanta Voice\, Georgia Asian Times & Mundo Hispanico\nDate: Thursday\, April 28\, 2022\nTime: 10:00am-12:00pm\nVenue The Grand Ivy Point\, Suwanee
URL:https://gasiantimes.com/event/conversation-with-stacey-abrams-democratic-party-candidate-for-governor-of-georgia-2/
ATTACH;FMTTYPE=image/jpeg:https://gasiantimes.com/wp-content/uploads/2022/04/StaceyAbrams.EMC_.NewFaceofGeorgia.Final_.Horizontal.jpeg
END:VEVENT
BEGIN:VEVENT
DTSTART;TZID=America/New_York:20220426T100000
DTEND;TZID=America/New_York:20220426T130000
DTSTAMP:20260421T172730
CREATED:20220421T124916Z
LAST-MODIFIED:20220421T124916Z
UID:55785-1650967200-1650978000@gasiantimes.com
SUMMARY:Learn how to do business with Rental Car Companies at the ATL Airport
DESCRIPTION:City of Atlanta and Hartsfield-Jackson Atlanta International Airport\, and Supporting Sponsor Airport Minority Advisory Council (AMAC) with increasing awareness of the Airport Rental Car Supplier Diversity Outreach virtual event\nDate: Tuesday\, April 26\, 2022\nTime:  10:00am-1:00pm\nRegistration:  https://www.eventbrite.com/e/airport-rental-car-supplier-diversity-outreach-day-tickets-302680394207?aff=affiliate1
URL:https://gasiantimes.com/event/learn-how-to-do-business-with-rental-car-companies-at-the-atl-airport-2/
END:VEVENT
BEGIN:VEVENT
DTSTART;TZID=America/New_York:20220426T100000
DTEND;TZID=America/New_York:20220426T130000
DTSTAMP:20260421T172731
CREATED:20220421T124916Z
LAST-MODIFIED:20220421T124916Z
UID:44268-1650967200-1650978000@gasiantimes.com
SUMMARY:Learn how to do business with Rental Car Companies at the ATL Airport
DESCRIPTION:City of Atlanta and Hartsfield-Jackson Atlanta International Airport\, and Supporting Sponsor Airport Minority Advisory Council (AMAC) with increasing awareness of the Airport Rental Car Supplier Diversity Outreach virtual event\nDate: Tuesday\, April 26\, 2022\nTime:  10:00am-1:00pm\nRegistration:  https://www.eventbrite.com/e/airport-rental-car-supplier-diversity-outreach-day-tickets-302680394207?aff=affiliate1
URL:https://gasiantimes.com/event/learn-how-to-do-business-with-rental-car-companies-at-the-atl-airport/
END:VEVENT
BEGIN:VEVENT
DTSTART;TZID=America/New_York:20220423T100000
DTEND;TZID=America/New_York:20220423T140000
DTSTAMP:20260421T172731
CREATED:20220422T132216Z
LAST-MODIFIED:20220422T132216Z
UID:44289-1650708000-1650722400@gasiantimes.com
SUMMARY:Filipino Food Fest
DESCRIPTION:Date: Saturday\, April 23\, 2022\nTime: 10:00am-2:00pm\nVenue: 40 DeKalb Industrial Way\, Decatur GA 30033
URL:https://gasiantimes.com/event/filipino-food-fest/
END:VEVENT
BEGIN:VEVENT
DTSTART;TZID=America/New_York:20220423T100000
DTEND;TZID=America/New_York:20220423T140000
DTSTAMP:20260421T172731
CREATED:20220422T132216Z
LAST-MODIFIED:20220422T132216Z
UID:55786-1650708000-1650722400@gasiantimes.com
SUMMARY:Filipino Food Fest
DESCRIPTION:Date: Saturday\, April 23\, 2022\nTime: 10:00am-2:00pm\nVenue: 40 DeKalb Industrial Way\, Decatur GA 30033
URL:https://gasiantimes.com/event/filipino-food-fest-2/
END:VEVENT
BEGIN:VEVENT
DTSTART;TZID=America/New_York:20220416T080000
DTEND;TZID=America/New_York:20220416T170000
DTSTAMP:20260421T172731
CREATED:20220416T143004Z
LAST-MODIFIED:20220416T143004Z
UID:44225-1650096000-1650128400@gasiantimes.com
SUMMARY:Atlanta Asian Film Festival 2022
DESCRIPTION:Date: Oct 7-15\, 2022\nVenue: Various venues in metro ATL\nFor more info: www.ATLaff.org
URL:https://gasiantimes.com/event/atlanta-asian-film-festival-2022/
END:VEVENT
BEGIN:VEVENT
DTSTART;TZID=America/New_York:20220416T080000
DTEND;TZID=America/New_York:20220416T170000
DTSTAMP:20260421T172731
CREATED:20220416T143004Z
LAST-MODIFIED:20220416T143004Z
UID:55783-1650096000-1650128400@gasiantimes.com
SUMMARY:Atlanta Asian Film Festival 2022
DESCRIPTION:Date: Oct 7-15\, 2022\nVenue: Various venues in metro ATL\nFor more info: www.ATLaff.org
URL:https://gasiantimes.com/event/atlanta-asian-film-festival-2022-2/
END:VEVENT
BEGIN:VEVENT
DTSTART;TZID=America/New_York:20220409T170000
DTEND;TZID=America/New_York:20220409T210000
DTSTAMP:20260421T172731
CREATED:20220406T124831Z
LAST-MODIFIED:20220406T124831Z
UID:44158-1649523600-1649538000@gasiantimes.com
SUMMARY:"Heart of the Philippines" Culture Show
DESCRIPTION:Presented by Kennesaw State University Filipino American Student Association\nDate: Saturday April 9\, 2022\nTime: 5:00 pm\nVenue: KSU Marietta Campus: Joe Mack Wilson Center\nAdmission: $20
URL:https://gasiantimes.com/event/heart-of-the-philippines-culture-show/
END:VEVENT
BEGIN:VEVENT
DTSTART;TZID=America/New_York:20220409T170000
DTEND;TZID=America/New_York:20220409T210000
DTSTAMP:20260421T172731
CREATED:20220406T124831Z
LAST-MODIFIED:20220406T124831Z
UID:55780-1649523600-1649538000@gasiantimes.com
SUMMARY:"Heart of the Philippines" Culture Show
DESCRIPTION:Presented by Kennesaw State University Filipino American Student Association\nDate: Saturday April 9\, 2022\nTime: 5:00 pm\nVenue: KSU Marietta Campus: Joe Mack Wilson Center\nAdmission: $20
URL:https://gasiantimes.com/event/heart-of-the-philippines-culture-show-2/
END:VEVENT
BEGIN:VEVENT
DTSTART;TZID=America/New_York:20220408T090000
DTEND;TZID=America/New_York:20220408T150000
DTSTAMP:20260421T172731
CREATED:20220404T145644Z
LAST-MODIFIED:20220404T145644Z
UID:44133-1649408400-1649430000@gasiantimes.com
SUMMARY:SAUPO 2022
DESCRIPTION:Date: Friday\, April 8\, 2022\nTime: 9:00am-3:00pm\nVenue: Renaissance Atlanta Waverly Hotel & Convention Center\n2450 Galleria Pkwy\, Atlanta GA 30339
URL:https://gasiantimes.com/event/saupo-2022/
LOCATION:Renaissnace Waverly Hotel\, 2450 Galleria Pkwy\, Atlanta\, GA\, 30339
END:VEVENT
BEGIN:VEVENT
DTSTART;TZID=America/New_York:20220408T090000
DTEND;TZID=America/New_York:20220408T150000
DTSTAMP:20260421T172731
CREATED:20220404T145644Z
LAST-MODIFIED:20220404T145644Z
UID:55779-1649408400-1649430000@gasiantimes.com
SUMMARY:SAUPO 2022
DESCRIPTION:Date: Friday\, April 8\, 2022\nTime: 9:00am-3:00pm\nVenue: Renaissance Atlanta Waverly Hotel & Convention Center\n2450 Galleria Pkwy\, Atlanta GA 30339
URL:https://gasiantimes.com/event/saupo-2022-2/
LOCATION:Renaissnace Waverly Hotel\, 2450 Galleria Pkwy\, Atlanta\, GA\, 30339
END:VEVENT
BEGIN:VEVENT
DTSTART;TZID=America/New_York:20220330T180000
DTEND;TZID=America/New_York:20220330T190000
DTSTAMP:20260421T172731
CREATED:20220317T144959Z
LAST-MODIFIED:20220317T144959Z
UID:55777-1648663200-1648666800@gasiantimes.com
SUMMARY:NACA Mentorship Webinar: "Thriving Professionally in a Virtual Work Environment"
DESCRIPTION:Panelists: – Lilly Chung Retired Corporate Executive\, Financial Industry\n– Guanming Fang Deputy General Counsel\, Priority Technology Holdings\, Inc.\n– Sue Lam Global HR Director\, The Coca-Cola Company\nDate: Wednesday\, March 30\, 2022\nTime: 6:00pm-7:00pm\nRegistration necessary: https://www.naca-atlanta.org/events/#!event/2022/3/30/thriving-professionally-in-a-virtual-work-environment
URL:https://gasiantimes.com/event/naca-mentorship-webinar-thriving-professionally-in-a-virtual-work-environment-2/
END:VEVENT
BEGIN:VEVENT
DTSTART;TZID=America/New_York:20220330T180000
DTEND;TZID=America/New_York:20220330T190000
DTSTAMP:20260421T172731
CREATED:20220317T144959Z
LAST-MODIFIED:20220317T144959Z
UID:44006-1648663200-1648666800@gasiantimes.com
SUMMARY:NACA Mentorship Webinar: "Thriving Professionally in a Virtual Work Environment"
DESCRIPTION:Panelists: – Lilly Chung Retired Corporate Executive\, Financial Industry\n– Guanming Fang Deputy General Counsel\, Priority Technology Holdings\, Inc.\n– Sue Lam Global HR Director\, The Coca-Cola Company\nDate: Wednesday\, March 30\, 2022\nTime: 6:00pm-7:00pm\nRegistration necessary: https://www.naca-atlanta.org/events/#!event/2022/3/30/thriving-professionally-in-a-virtual-work-environment
URL:https://gasiantimes.com/event/naca-mentorship-webinar-thriving-professionally-in-a-virtual-work-environment/
END:VEVENT
BEGIN:VEVENT
DTSTART;TZID=America/New_York:20220316T180000
DTEND;TZID=America/New_York:20220316T193000
DTSTAMP:20260421T172731
CREATED:20220314T133913Z
LAST-MODIFIED:20220314T133913Z
UID:55776-1647453600-1647459000@gasiantimes.com
SUMMARY:Atlanta March 16 Shooting Commemoration
DESCRIPTION:Organized by Korean American Association of Greater Atlanta\nDate: Wednesday\, March 16\, 2022\nTime: 6:00pm-7:30pm\nVenue: Korean American Center 5900 Brook Hollow Pkwy
URL:https://gasiantimes.com/event/atlanta-march-16-shooting-commemoration-2/
END:VEVENT
BEGIN:VEVENT
DTSTART;TZID=America/New_York:20220316T180000
DTEND;TZID=America/New_York:20220316T193000
DTSTAMP:20260421T172731
CREATED:20220314T133913Z
LAST-MODIFIED:20220314T133913Z
UID:43966-1647453600-1647459000@gasiantimes.com
SUMMARY:Atlanta March 16 Shooting Commemoration
DESCRIPTION:Organized by Korean American Association of Greater Atlanta\nDate: Wednesday\, March 16\, 2022\nTime: 6:00pm-7:30pm\nVenue: Korean American Center 5900 Brook Hollow Pkwy
URL:https://gasiantimes.com/event/atlanta-march-16-shooting-commemoration/
END:VEVENT
BEGIN:VEVENT
DTSTART;TZID=America/New_York:20220316T120000
DTEND;TZID=America/New_York:20220316T150000
DTSTAMP:20260421T172731
CREATED:20220301T150438Z
LAST-MODIFIED:20220303T133538Z
UID:43838-1647432000-1647442800@gasiantimes.com
SUMMARY:3.16 Asian Justice Rally-Justice for AAPI women
DESCRIPTION:Organized by Georgia Advancing Progress Political Action Committee (GAPPAC)\nDate: Wednesday\, March 16\, 2022\nTime: 12pm-3pm; Open to public\nVenue: Liberty Plaza/Georgia State Capitol.
URL:https://gasiantimes.com/event/3-16-anniversary-remembrance/
ATTACH;FMTTYPE=image/jpeg:https://gasiantimes.com/wp-content/uploads/2022/03/DSC02814-scaled.jpg
END:VEVENT
BEGIN:VEVENT
DTSTART;TZID=America/New_York:20220316T120000
DTEND;TZID=America/New_York:20220316T150000
DTSTAMP:20260421T172731
CREATED:20220301T150438Z
LAST-MODIFIED:20220301T150438Z
UID:55775-1647432000-1647442800@gasiantimes.com
SUMMARY:3.16 Asian Justice Rally-Justice for AAPI women
DESCRIPTION:Organized by Georgia Advancing Progress Political Action Committee (GAPPAC)\nDate: Wednesday\, March 16\, 2022\nTime: 12pm-3pm; Open to public\nVenue: Liberty Plaza/Georgia State Capitol.
URL:https://gasiantimes.com/event/3-16-anniversary-remembrance-2/
ATTACH;FMTTYPE=image/jpeg:https://gasiantimes.com/wp-content/uploads/2022/03/DSC02814-scaled.jpg
END:VEVENT
BEGIN:VEVENT
DTSTART;TZID=America/New_York:20220308T090000
DTEND;TZID=America/New_York:20220308T150000
DTSTAMP:20260421T172731
CREATED:20220301T145826Z
LAST-MODIFIED:20220301T145826Z
UID:55774-1646730000-1646751600@gasiantimes.com
SUMMARY:Symposium on Asia-USA Partnership Opportunities (SAUPO)
DESCRIPTION:SAUPO 2022\nOrganized by Kennesaw State University\nDate: Friday\, April 8\, 2022\nTime: 9:00am-3:00pm\nVenue: Renaissance Atlanta Waverly Hotel & Convention Center\n2450 Galleria Pkwy\, Atlanta GA 30339
URL:https://gasiantimes.com/event/symposium-on-asia-usa-opportunities-saupo-2/
END:VEVENT
BEGIN:VEVENT
DTSTART;TZID=America/New_York:20220308T090000
DTEND;TZID=America/New_York:20220308T150000
DTSTAMP:20260421T172731
CREATED:20220301T145826Z
LAST-MODIFIED:20220301T150657Z
UID:43835-1646730000-1646751600@gasiantimes.com
SUMMARY:Symposium on Asia-USA Partnership Opportunities (SAUPO)
DESCRIPTION:SAUPO 2022\nOrganized by Kennesaw State University\nDate: Friday\, April 8\, 2022\nTime: 9:00am-3:00pm\nVenue: Renaissance Atlanta Waverly Hotel & Convention Center\n2450 Galleria Pkwy\, Atlanta GA 30339
URL:https://gasiantimes.com/event/symposium-on-asia-usa-opportunities-saupo/
END:VEVENT
BEGIN:VEVENT
DTSTART;TZID=America/New_York:20220225T110000
DTEND;TZID=America/New_York:20220225T123000
DTSTAMP:20260421T172731
CREATED:20220214T143445Z
LAST-MODIFIED:20220214T143445Z
UID:43724-1645786800-1645792200@gasiantimes.com
SUMMARY:3.16: Stop Asian Hate - What have we learned?
DESCRIPTION:Webinar by Georgia Asian Times\nDate: Friday\, Feb 25\, 2022\nTime: 11:00am-12:15 pm\nRegistration required: https://gasiantimes.com/hhy6
URL:https://gasiantimes.com/event/3-16-stop-asian-hate-what-have-we-learned/
END:VEVENT
END:VCALENDAR